BEGIN:VCALENDAR
VERSION:2.0
PRODID:-//Central Florida Intergroup - ECPv6.15.20//NONSGML v1.0//EN
CALSCALE:GREGORIAN
METHOD:PUBLISH
X-WR-CALNAME:Central Florida Intergroup
X-ORIGINAL-URL:https://cflintergroup.org
X-WR-CALDESC:Events for Central Florida Intergroup
REFRESH-INTERVAL;VALUE=DURATION:PT1H
X-Robots-Tag:noindex
X-PUBLISHED-TTL:PT1H
BEGIN:VTIMEZONE
TZID:America/New_York
BEGIN:DAYLIGHT
TZOFFSETFROM:-0500
TZOFFSETTO:-0400
TZNAME:EDT
DTSTART:20240310T070000
END:DAYLIGHT
BEGIN:STANDARD
TZOFFSETFROM:-0400
TZOFFSETTO:-0500
TZNAME:EST
DTSTART:20241103T060000
END:STANDARD
BEGIN:DAYLIGHT
TZOFFSETFROM:-0500
TZOFFSETTO:-0400
TZNAME:EDT
DTSTART:20250309T070000
END:DAYLIGHT
BEGIN:STANDARD
TZOFFSETFROM:-0400
TZOFFSETTO:-0500
TZNAME:EST
DTSTART:20251102T060000
END:STANDARD
BEGIN:DAYLIGHT
TZOFFSETFROM:-0500
TZOFFSETTO:-0400
TZNAME:EDT
DTSTART:20260308T070000
END:DAYLIGHT
BEGIN:STANDARD
TZOFFSETFROM:-0400
TZOFFSETTO:-0500
TZNAME:EST
DTSTART:20261101T060000
END:STANDARD
END:VTIMEZONE
BEGIN:VEVENT
DTSTART;TZID=America/New_York:20250921T133000
DTEND;TZID=America/New_York:20250921T163000
DTSTAMP:20260423T083149
CREATED:20250907T193548Z
LAST-MODIFIED:20250907T193548Z
UID:10004599-1758461400-1758472200@cflintergroup.org
SUMMARY:Joint Corrections Workshop
DESCRIPTION:Areas 14 and 15 invite you to their corrections workshop\, which will include a panel of AA members and others bringing meetings into institutions. This workshop will be held with food and fellowship in person\, but will also be available on Zoom using Meeting ID 847 3048 2501 and Passcode 984923.
URL:https://cflintergroup.org/event/joint-corrections-workshop/
LOCATION:ODAT Club\, 4971 W. Colonial Drive\, Orlando\, FL\, 32808\, United States
CATEGORIES:Workshop
ORGANIZER;CN="Area 14":MAILTO:chairperson@aanorthflorida.org
GEO:28.553537;-81.44663
X-APPLE-STRUCTURED-LOCATION;VALUE=URI;X-ADDRESS=ODAT Club 4971 W. Colonial Drive Orlando FL 32808 United States;X-APPLE-RADIUS=500;X-TITLE=4971 W. Colonial Drive:geo:-81.44663,28.553537
END:VEVENT
END:VCALENDAR