BEGIN:VCALENDAR
VERSION:2.0
PRODID:-//Central Florida Intergroup - ECPv6.15.20//NONSGML v1.0//EN
CALSCALE:GREGORIAN
METHOD:PUBLISH
X-WR-CALNAME:Central Florida Intergroup
X-ORIGINAL-URL:https://cflintergroup.org
X-WR-CALDESC:Events for Central Florida Intergroup
REFRESH-INTERVAL;VALUE=DURATION:PT1H
X-Robots-Tag:noindex
X-PUBLISHED-TTL:PT1H
BEGIN:VTIMEZONE
TZID:America/New_York
BEGIN:DAYLIGHT
TZOFFSETFROM:-0500
TZOFFSETTO:-0400
TZNAME:EDT
DTSTART:20240310T070000
END:DAYLIGHT
BEGIN:STANDARD
TZOFFSETFROM:-0400
TZOFFSETTO:-0500
TZNAME:EST
DTSTART:20241103T060000
END:STANDARD
BEGIN:DAYLIGHT
TZOFFSETFROM:-0500
TZOFFSETTO:-0400
TZNAME:EDT
DTSTART:20250309T070000
END:DAYLIGHT
BEGIN:STANDARD
TZOFFSETFROM:-0400
TZOFFSETTO:-0500
TZNAME:EST
DTSTART:20251102T060000
END:STANDARD
BEGIN:DAYLIGHT
TZOFFSETFROM:-0500
TZOFFSETTO:-0400
TZNAME:EDT
DTSTART:20260308T070000
END:DAYLIGHT
BEGIN:STANDARD
TZOFFSETFROM:-0400
TZOFFSETTO:-0500
TZNAME:EST
DTSTART:20261101T060000
END:STANDARD
END:VTIMEZONE
BEGIN:VEVENT
DTSTART;TZID=America/New_York:20250925T180000
DTEND;TZID=America/New_York:20250925T200000
DTSTAMP:20260425T061935
CREATED:20250716T011317Z
LAST-MODIFIED:20250716T011317Z
UID:10004515-1758823200-1758830400@cflintergroup.org
SUMMARY:Came To Believe Potluck Dinner
DESCRIPTION:Came to Believe invites you to join them on the last Thursday of each month for a potluck dinner at 6pm\, followed by a meeting at 7pm.
URL:https://cflintergroup.org/event/came-to-believe-potluck-dinner/2025-09-25/
LOCATION:REBOS\, 130 Normandy Road\, Casselberry\, FL\, 32707\, United States
CATEGORIES:Food & Drink,Special Event
GEO:28.666617;-81.3405457
X-APPLE-STRUCTURED-LOCATION;VALUE=URI;X-ADDRESS=REBOS 130 Normandy Road Casselberry FL 32707 United States;X-APPLE-RADIUS=500;X-TITLE=130 Normandy Road:geo:-81.3405457,28.666617
END:VEVENT
BEGIN:VEVENT
DTSTART;TZID=America/New_York:20250925T190000
DTEND;TZID=America/New_York:20250925T203000
DTSTAMP:20260425T061935
CREATED:20250706T195432Z
LAST-MODIFIED:20250706T195432Z
UID:10004507-1758826800-1758832200@cflintergroup.org
SUMMARY:12 Traditions Workshop
DESCRIPTION:Message carriers Vic L and Rob M\, along with a number of guest speakers\, provide an in-depth study of the history and 12 traditions of Alcoholics Anonymous. The workshop will be 12 weeks long and all sessions will be held on Zoom. Please see the flyer or site for more information.
URL:https://cflintergroup.org/event/12-traditions-workshop/2025-09-25/
LOCATION:Zoom\, FL\, United States
CATEGORIES:Workshop
END:VEVENT
END:VCALENDAR