BEGIN:VCALENDAR
VERSION:2.0
PRODID:-//Central Florida Intergroup - ECPv6.15.20//NONSGML v1.0//EN
CALSCALE:GREGORIAN
METHOD:PUBLISH
X-ORIGINAL-URL:https://cflintergroup.org
X-WR-CALDESC:Events for Central Florida Intergroup
REFRESH-INTERVAL;VALUE=DURATION:PT1H
X-Robots-Tag:noindex
X-PUBLISHED-TTL:PT1H
BEGIN:VTIMEZONE
TZID:America/New_York
BEGIN:DAYLIGHT
TZOFFSETFROM:-0500
TZOFFSETTO:-0400
TZNAME:EDT
DTSTART:20260308T070000
END:DAYLIGHT
BEGIN:STANDARD
TZOFFSETFROM:-0400
TZOFFSETTO:-0500
TZNAME:EST
DTSTART:20261101T060000
END:STANDARD
BEGIN:DAYLIGHT
TZOFFSETFROM:-0500
TZOFFSETTO:-0400
TZNAME:EDT
DTSTART:20270314T070000
END:DAYLIGHT
BEGIN:STANDARD
TZOFFSETFROM:-0400
TZOFFSETTO:-0500
TZNAME:EST
DTSTART:20271107T060000
END:STANDARD
BEGIN:DAYLIGHT
TZOFFSETFROM:-0500
TZOFFSETTO:-0400
TZNAME:EDT
DTSTART:20280312T070000
END:DAYLIGHT
BEGIN:STANDARD
TZOFFSETFROM:-0400
TZOFFSETTO:-0500
TZNAME:EST
DTSTART:20281105T060000
END:STANDARD
BEGIN:DAYLIGHT
TZOFFSETFROM:-0500
TZOFFSETTO:-0400
TZNAME:EDT
DTSTART:20290311T070000
END:DAYLIGHT
BEGIN:STANDARD
TZOFFSETFROM:-0400
TZOFFSETTO:-0500
TZNAME:EST
DTSTART:20291104T060000
END:STANDARD
END:VTIMEZONE
BEGIN:VEVENT
DTSTART;TZID=America/New_York:20270729T180000
DTEND;TZID=America/New_York:20270729T200000
DTSTAMP:20260422T174913
CREATED:20250716T011317Z
LAST-MODIFIED:20250716T011317Z
UID:10004537-1816884000-1816891200@cflintergroup.org
SUMMARY:Came To Believe Potluck Dinner
DESCRIPTION:Came to Believe invites you to join them on the last Thursday of each month for a potluck dinner at 6pm\, followed by a meeting at 7pm.
URL:https://cflintergroup.org/event/came-to-believe-potluck-dinner/2027-07-29/
LOCATION:REBOS\, 130 Normandy Road\, Casselberry\, FL\, 32707\, United States
CATEGORIES:Food & Drink,Special Event
GEO:28.666617;-81.3405457
X-APPLE-STRUCTURED-LOCATION;VALUE=URI;X-ADDRESS=REBOS 130 Normandy Road Casselberry FL 32707 United States;X-APPLE-RADIUS=500;X-TITLE=130 Normandy Road:geo:-81.3405457,28.666617
END:VEVENT
BEGIN:VEVENT
DTSTART;TZID=America/New_York:20270801T150000
DTEND;TZID=America/New_York:20270801T160000
DTSTAMP:20260422T174913
CREATED:20160202T142204Z
LAST-MODIFIED:20250409T141351Z
UID:10002122-1817132400-1817136000@cflintergroup.org
SUMMARY:Jaywalkers Group Birthday Meeting and Potluck
DESCRIPTION:On the first Sunday of every month\, the Jaywalkers group holds a birthday speaker meeting followed by a potluck dinner at Redeemer Lutheran Church in Winter Park. (Dishes\, sides\, or desserts are encouraged but not required.)
URL:https://cflintergroup.org/event/jaywalkers-birthday-speaker-meeting-and-potluck-dinner-2016-03-06-2020-04-05/2027-08-01/
LOCATION:Redeemer Lutheran Church\, 3377 Aloma Ave\, Winter Park\, FL\, 32792\, United States
CATEGORIES:Food & Drink
GEO:28.6061295;-81.3039658
X-APPLE-STRUCTURED-LOCATION;VALUE=URI;X-ADDRESS=Redeemer Lutheran Church 3377 Aloma Ave Winter Park FL 32792 United States;X-APPLE-RADIUS=500;X-TITLE=3377 Aloma Ave:geo:-81.3039658,28.6061295
END:VEVENT
BEGIN:VEVENT
DTSTART;TZID=America/New_York:20270826T180000
DTEND;TZID=America/New_York:20270826T200000
DTSTAMP:20260422T174913
CREATED:20250716T011317Z
LAST-MODIFIED:20250716T011317Z
UID:10004538-1819303200-1819310400@cflintergroup.org
SUMMARY:Came To Believe Potluck Dinner
DESCRIPTION:Came to Believe invites you to join them on the last Thursday of each month for a potluck dinner at 6pm\, followed by a meeting at 7pm.
URL:https://cflintergroup.org/event/came-to-believe-potluck-dinner/2027-08-26/
LOCATION:REBOS\, 130 Normandy Road\, Casselberry\, FL\, 32707\, United States
CATEGORIES:Food & Drink,Special Event
GEO:28.666617;-81.3405457
X-APPLE-STRUCTURED-LOCATION;VALUE=URI;X-ADDRESS=REBOS 130 Normandy Road Casselberry FL 32707 United States;X-APPLE-RADIUS=500;X-TITLE=130 Normandy Road:geo:-81.3405457,28.666617
END:VEVENT
BEGIN:VEVENT
DTSTART;TZID=America/New_York:20270905T150000
DTEND;TZID=America/New_York:20270905T160000
DTSTAMP:20260422T174913
CREATED:20160202T142204Z
LAST-MODIFIED:20250409T141351Z
UID:10002123-1820156400-1820160000@cflintergroup.org
SUMMARY:Jaywalkers Group Birthday Meeting and Potluck
DESCRIPTION:On the first Sunday of every month\, the Jaywalkers group holds a birthday speaker meeting followed by a potluck dinner at Redeemer Lutheran Church in Winter Park. (Dishes\, sides\, or desserts are encouraged but not required.)
URL:https://cflintergroup.org/event/jaywalkers-birthday-speaker-meeting-and-potluck-dinner-2016-03-06-2020-04-05/2027-09-05/
LOCATION:Redeemer Lutheran Church\, 3377 Aloma Ave\, Winter Park\, FL\, 32792\, United States
CATEGORIES:Food & Drink
GEO:28.6061295;-81.3039658
X-APPLE-STRUCTURED-LOCATION;VALUE=URI;X-ADDRESS=Redeemer Lutheran Church 3377 Aloma Ave Winter Park FL 32792 United States;X-APPLE-RADIUS=500;X-TITLE=3377 Aloma Ave:geo:-81.3039658,28.6061295
END:VEVENT
BEGIN:VEVENT
DTSTART;TZID=America/New_York:20270930T180000
DTEND;TZID=America/New_York:20270930T200000
DTSTAMP:20260422T174913
CREATED:20250716T011317Z
LAST-MODIFIED:20250716T011317Z
UID:10004539-1822327200-1822334400@cflintergroup.org
SUMMARY:Came To Believe Potluck Dinner
DESCRIPTION:Came to Believe invites you to join them on the last Thursday of each month for a potluck dinner at 6pm\, followed by a meeting at 7pm.
URL:https://cflintergroup.org/event/came-to-believe-potluck-dinner/2027-09-30/
LOCATION:REBOS\, 130 Normandy Road\, Casselberry\, FL\, 32707\, United States
CATEGORIES:Food & Drink,Special Event
GEO:28.666617;-81.3405457
X-APPLE-STRUCTURED-LOCATION;VALUE=URI;X-ADDRESS=REBOS 130 Normandy Road Casselberry FL 32707 United States;X-APPLE-RADIUS=500;X-TITLE=130 Normandy Road:geo:-81.3405457,28.666617
END:VEVENT
BEGIN:VEVENT
DTSTART;TZID=America/New_York:20271003T150000
DTEND;TZID=America/New_York:20271003T160000
DTSTAMP:20260422T174913
CREATED:20160202T142204Z
LAST-MODIFIED:20250409T141351Z
UID:10002124-1822575600-1822579200@cflintergroup.org
SUMMARY:Jaywalkers Group Birthday Meeting and Potluck
DESCRIPTION:On the first Sunday of every month\, the Jaywalkers group holds a birthday speaker meeting followed by a potluck dinner at Redeemer Lutheran Church in Winter Park. (Dishes\, sides\, or desserts are encouraged but not required.)
URL:https://cflintergroup.org/event/jaywalkers-birthday-speaker-meeting-and-potluck-dinner-2016-03-06-2020-04-05/2027-10-03/
LOCATION:Redeemer Lutheran Church\, 3377 Aloma Ave\, Winter Park\, FL\, 32792\, United States
CATEGORIES:Food & Drink
GEO:28.6061295;-81.3039658
X-APPLE-STRUCTURED-LOCATION;VALUE=URI;X-ADDRESS=Redeemer Lutheran Church 3377 Aloma Ave Winter Park FL 32792 United States;X-APPLE-RADIUS=500;X-TITLE=3377 Aloma Ave:geo:-81.3039658,28.6061295
END:VEVENT
BEGIN:VEVENT
DTSTART;TZID=America/New_York:20271028T180000
DTEND;TZID=America/New_York:20271028T200000
DTSTAMP:20260422T174913
CREATED:20250716T011317Z
LAST-MODIFIED:20250716T011317Z
UID:10004540-1824746400-1824753600@cflintergroup.org
SUMMARY:Came To Believe Potluck Dinner
DESCRIPTION:Came to Believe invites you to join them on the last Thursday of each month for a potluck dinner at 6pm\, followed by a meeting at 7pm.
URL:https://cflintergroup.org/event/came-to-believe-potluck-dinner/2027-10-28/
LOCATION:REBOS\, 130 Normandy Road\, Casselberry\, FL\, 32707\, United States
CATEGORIES:Food & Drink,Special Event
GEO:28.666617;-81.3405457
X-APPLE-STRUCTURED-LOCATION;VALUE=URI;X-ADDRESS=REBOS 130 Normandy Road Casselberry FL 32707 United States;X-APPLE-RADIUS=500;X-TITLE=130 Normandy Road:geo:-81.3405457,28.666617
END:VEVENT
BEGIN:VEVENT
DTSTART;TZID=America/New_York:20271107T150000
DTEND;TZID=America/New_York:20271107T160000
DTSTAMP:20260422T174913
CREATED:20160202T142204Z
LAST-MODIFIED:20250409T141351Z
UID:10002125-1825599600-1825603200@cflintergroup.org
SUMMARY:Jaywalkers Group Birthday Meeting and Potluck
DESCRIPTION:On the first Sunday of every month\, the Jaywalkers group holds a birthday speaker meeting followed by a potluck dinner at Redeemer Lutheran Church in Winter Park. (Dishes\, sides\, or desserts are encouraged but not required.)
URL:https://cflintergroup.org/event/jaywalkers-birthday-speaker-meeting-and-potluck-dinner-2016-03-06-2020-04-05/2027-11-07/
LOCATION:Redeemer Lutheran Church\, 3377 Aloma Ave\, Winter Park\, FL\, 32792\, United States
CATEGORIES:Food & Drink
GEO:28.6061295;-81.3039658
X-APPLE-STRUCTURED-LOCATION;VALUE=URI;X-ADDRESS=Redeemer Lutheran Church 3377 Aloma Ave Winter Park FL 32792 United States;X-APPLE-RADIUS=500;X-TITLE=3377 Aloma Ave:geo:-81.3039658,28.6061295
END:VEVENT
BEGIN:VEVENT
DTSTART;TZID=America/New_York:20271125T180000
DTEND;TZID=America/New_York:20271125T200000
DTSTAMP:20260422T174913
CREATED:20250716T011317Z
LAST-MODIFIED:20250716T011317Z
UID:10004541-1827165600-1827172800@cflintergroup.org
SUMMARY:Came To Believe Potluck Dinner
DESCRIPTION:Came to Believe invites you to join them on the last Thursday of each month for a potluck dinner at 6pm\, followed by a meeting at 7pm.
URL:https://cflintergroup.org/event/came-to-believe-potluck-dinner/2027-11-25/
LOCATION:REBOS\, 130 Normandy Road\, Casselberry\, FL\, 32707\, United States
CATEGORIES:Food & Drink,Special Event
GEO:28.666617;-81.3405457
X-APPLE-STRUCTURED-LOCATION;VALUE=URI;X-ADDRESS=REBOS 130 Normandy Road Casselberry FL 32707 United States;X-APPLE-RADIUS=500;X-TITLE=130 Normandy Road:geo:-81.3405457,28.666617
END:VEVENT
BEGIN:VEVENT
DTSTART;TZID=America/New_York:20271205T150000
DTEND;TZID=America/New_York:20271205T160000
DTSTAMP:20260422T174913
CREATED:20160202T142204Z
LAST-MODIFIED:20250409T141351Z
UID:10002126-1828018800-1828022400@cflintergroup.org
SUMMARY:Jaywalkers Group Birthday Meeting and Potluck
DESCRIPTION:On the first Sunday of every month\, the Jaywalkers group holds a birthday speaker meeting followed by a potluck dinner at Redeemer Lutheran Church in Winter Park. (Dishes\, sides\, or desserts are encouraged but not required.)
URL:https://cflintergroup.org/event/jaywalkers-birthday-speaker-meeting-and-potluck-dinner-2016-03-06-2020-04-05/2027-12-05/
LOCATION:Redeemer Lutheran Church\, 3377 Aloma Ave\, Winter Park\, FL\, 32792\, United States
CATEGORIES:Food & Drink
GEO:28.6061295;-81.3039658
X-APPLE-STRUCTURED-LOCATION;VALUE=URI;X-ADDRESS=Redeemer Lutheran Church 3377 Aloma Ave Winter Park FL 32792 United States;X-APPLE-RADIUS=500;X-TITLE=3377 Aloma Ave:geo:-81.3039658,28.6061295
END:VEVENT
BEGIN:VEVENT
DTSTART;TZID=America/New_York:20271230T180000
DTEND;TZID=America/New_York:20271230T200000
DTSTAMP:20260422T174913
CREATED:20250716T011317Z
LAST-MODIFIED:20250716T011317Z
UID:10004542-1830189600-1830196800@cflintergroup.org
SUMMARY:Came To Believe Potluck Dinner
DESCRIPTION:Came to Believe invites you to join them on the last Thursday of each month for a potluck dinner at 6pm\, followed by a meeting at 7pm.
URL:https://cflintergroup.org/event/came-to-believe-potluck-dinner/2027-12-30/
LOCATION:REBOS\, 130 Normandy Road\, Casselberry\, FL\, 32707\, United States
CATEGORIES:Food & Drink,Special Event
GEO:28.666617;-81.3405457
X-APPLE-STRUCTURED-LOCATION;VALUE=URI;X-ADDRESS=REBOS 130 Normandy Road Casselberry FL 32707 United States;X-APPLE-RADIUS=500;X-TITLE=130 Normandy Road:geo:-81.3405457,28.666617
END:VEVENT
BEGIN:VEVENT
DTSTART;TZID=America/New_York:20280102T150000
DTEND;TZID=America/New_York:20280102T160000
DTSTAMP:20260422T174913
CREATED:20160202T142204Z
LAST-MODIFIED:20250409T141351Z
UID:10002127-1830438000-1830441600@cflintergroup.org
SUMMARY:Jaywalkers Group Birthday Meeting and Potluck
DESCRIPTION:On the first Sunday of every month\, the Jaywalkers group holds a birthday speaker meeting followed by a potluck dinner at Redeemer Lutheran Church in Winter Park. (Dishes\, sides\, or desserts are encouraged but not required.)
URL:https://cflintergroup.org/event/jaywalkers-birthday-speaker-meeting-and-potluck-dinner-2016-03-06-2020-04-05/2028-01-02/
LOCATION:Redeemer Lutheran Church\, 3377 Aloma Ave\, Winter Park\, FL\, 32792\, United States
CATEGORIES:Food & Drink
GEO:28.6061295;-81.3039658
X-APPLE-STRUCTURED-LOCATION;VALUE=URI;X-ADDRESS=Redeemer Lutheran Church 3377 Aloma Ave Winter Park FL 32792 United States;X-APPLE-RADIUS=500;X-TITLE=3377 Aloma Ave:geo:-81.3039658,28.6061295
END:VEVENT
BEGIN:VEVENT
DTSTART;TZID=America/New_York:20280127T180000
DTEND;TZID=America/New_York:20280127T200000
DTSTAMP:20260422T174913
CREATED:20250716T011317Z
LAST-MODIFIED:20250716T011317Z
UID:10004543-1832608800-1832616000@cflintergroup.org
SUMMARY:Came To Believe Potluck Dinner
DESCRIPTION:Came to Believe invites you to join them on the last Thursday of each month for a potluck dinner at 6pm\, followed by a meeting at 7pm.
URL:https://cflintergroup.org/event/came-to-believe-potluck-dinner/2028-01-27/
LOCATION:REBOS\, 130 Normandy Road\, Casselberry\, FL\, 32707\, United States
CATEGORIES:Food & Drink,Special Event
GEO:28.666617;-81.3405457
X-APPLE-STRUCTURED-LOCATION;VALUE=URI;X-ADDRESS=REBOS 130 Normandy Road Casselberry FL 32707 United States;X-APPLE-RADIUS=500;X-TITLE=130 Normandy Road:geo:-81.3405457,28.666617
END:VEVENT
BEGIN:VEVENT
DTSTART;TZID=America/New_York:20280206T150000
DTEND;TZID=America/New_York:20280206T160000
DTSTAMP:20260422T174913
CREATED:20160202T142204Z
LAST-MODIFIED:20250409T141351Z
UID:10002128-1833462000-1833465600@cflintergroup.org
SUMMARY:Jaywalkers Group Birthday Meeting and Potluck
DESCRIPTION:On the first Sunday of every month\, the Jaywalkers group holds a birthday speaker meeting followed by a potluck dinner at Redeemer Lutheran Church in Winter Park. (Dishes\, sides\, or desserts are encouraged but not required.)
URL:https://cflintergroup.org/event/jaywalkers-birthday-speaker-meeting-and-potluck-dinner-2016-03-06-2020-04-05/2028-02-06/
LOCATION:Redeemer Lutheran Church\, 3377 Aloma Ave\, Winter Park\, FL\, 32792\, United States
CATEGORIES:Food & Drink
GEO:28.6061295;-81.3039658
X-APPLE-STRUCTURED-LOCATION;VALUE=URI;X-ADDRESS=Redeemer Lutheran Church 3377 Aloma Ave Winter Park FL 32792 United States;X-APPLE-RADIUS=500;X-TITLE=3377 Aloma Ave:geo:-81.3039658,28.6061295
END:VEVENT
BEGIN:VEVENT
DTSTART;TZID=America/New_York:20280224T180000
DTEND;TZID=America/New_York:20280224T200000
DTSTAMP:20260422T174913
CREATED:20250716T011317Z
LAST-MODIFIED:20250716T011317Z
UID:10004544-1835028000-1835035200@cflintergroup.org
SUMMARY:Came To Believe Potluck Dinner
DESCRIPTION:Came to Believe invites you to join them on the last Thursday of each month for a potluck dinner at 6pm\, followed by a meeting at 7pm.
URL:https://cflintergroup.org/event/came-to-believe-potluck-dinner/2028-02-24/
LOCATION:REBOS\, 130 Normandy Road\, Casselberry\, FL\, 32707\, United States
CATEGORIES:Food & Drink,Special Event
GEO:28.666617;-81.3405457
X-APPLE-STRUCTURED-LOCATION;VALUE=URI;X-ADDRESS=REBOS 130 Normandy Road Casselberry FL 32707 United States;X-APPLE-RADIUS=500;X-TITLE=130 Normandy Road:geo:-81.3405457,28.666617
END:VEVENT
BEGIN:VEVENT
DTSTART;TZID=America/New_York:20280305T150000
DTEND;TZID=America/New_York:20280305T160000
DTSTAMP:20260422T174913
CREATED:20160202T142204Z
LAST-MODIFIED:20250409T141351Z
UID:10002129-1835881200-1835884800@cflintergroup.org
SUMMARY:Jaywalkers Group Birthday Meeting and Potluck
DESCRIPTION:On the first Sunday of every month\, the Jaywalkers group holds a birthday speaker meeting followed by a potluck dinner at Redeemer Lutheran Church in Winter Park. (Dishes\, sides\, or desserts are encouraged but not required.)
URL:https://cflintergroup.org/event/jaywalkers-birthday-speaker-meeting-and-potluck-dinner-2016-03-06-2020-04-05/2028-03-05/
LOCATION:Redeemer Lutheran Church\, 3377 Aloma Ave\, Winter Park\, FL\, 32792\, United States
CATEGORIES:Food & Drink
GEO:28.6061295;-81.3039658
X-APPLE-STRUCTURED-LOCATION;VALUE=URI;X-ADDRESS=Redeemer Lutheran Church 3377 Aloma Ave Winter Park FL 32792 United States;X-APPLE-RADIUS=500;X-TITLE=3377 Aloma Ave:geo:-81.3039658,28.6061295
END:VEVENT
BEGIN:VEVENT
DTSTART;TZID=America/New_York:20280330T180000
DTEND;TZID=America/New_York:20280330T200000
DTSTAMP:20260422T174913
CREATED:20250716T011317Z
LAST-MODIFIED:20250716T011317Z
UID:10004545-1838052000-1838059200@cflintergroup.org
SUMMARY:Came To Believe Potluck Dinner
DESCRIPTION:Came to Believe invites you to join them on the last Thursday of each month for a potluck dinner at 6pm\, followed by a meeting at 7pm.
URL:https://cflintergroup.org/event/came-to-believe-potluck-dinner/2028-03-30/
LOCATION:REBOS\, 130 Normandy Road\, Casselberry\, FL\, 32707\, United States
CATEGORIES:Food & Drink,Special Event
GEO:28.666617;-81.3405457
X-APPLE-STRUCTURED-LOCATION;VALUE=URI;X-ADDRESS=REBOS 130 Normandy Road Casselberry FL 32707 United States;X-APPLE-RADIUS=500;X-TITLE=130 Normandy Road:geo:-81.3405457,28.666617
END:VEVENT
BEGIN:VEVENT
DTSTART;TZID=America/New_York:20280402T150000
DTEND;TZID=America/New_York:20280402T160000
DTSTAMP:20260422T174913
CREATED:20160202T142204Z
LAST-MODIFIED:20250409T141351Z
UID:10002130-1838300400-1838304000@cflintergroup.org
SUMMARY:Jaywalkers Group Birthday Meeting and Potluck
DESCRIPTION:On the first Sunday of every month\, the Jaywalkers group holds a birthday speaker meeting followed by a potluck dinner at Redeemer Lutheran Church in Winter Park. (Dishes\, sides\, or desserts are encouraged but not required.)
URL:https://cflintergroup.org/event/jaywalkers-birthday-speaker-meeting-and-potluck-dinner-2016-03-06-2020-04-05/2028-04-02/
LOCATION:Redeemer Lutheran Church\, 3377 Aloma Ave\, Winter Park\, FL\, 32792\, United States
CATEGORIES:Food & Drink
GEO:28.6061295;-81.3039658
X-APPLE-STRUCTURED-LOCATION;VALUE=URI;X-ADDRESS=Redeemer Lutheran Church 3377 Aloma Ave Winter Park FL 32792 United States;X-APPLE-RADIUS=500;X-TITLE=3377 Aloma Ave:geo:-81.3039658,28.6061295
END:VEVENT
BEGIN:VEVENT
DTSTART;TZID=America/New_York:20280427T180000
DTEND;TZID=America/New_York:20280427T200000
DTSTAMP:20260422T174913
CREATED:20250716T011317Z
LAST-MODIFIED:20250716T011317Z
UID:10004546-1840471200-1840478400@cflintergroup.org
SUMMARY:Came To Believe Potluck Dinner
DESCRIPTION:Came to Believe invites you to join them on the last Thursday of each month for a potluck dinner at 6pm\, followed by a meeting at 7pm.
URL:https://cflintergroup.org/event/came-to-believe-potluck-dinner/2028-04-27/
LOCATION:REBOS\, 130 Normandy Road\, Casselberry\, FL\, 32707\, United States
CATEGORIES:Food & Drink,Special Event
GEO:28.666617;-81.3405457
X-APPLE-STRUCTURED-LOCATION;VALUE=URI;X-ADDRESS=REBOS 130 Normandy Road Casselberry FL 32707 United States;X-APPLE-RADIUS=500;X-TITLE=130 Normandy Road:geo:-81.3405457,28.666617
END:VEVENT
BEGIN:VEVENT
DTSTART;TZID=America/New_York:20280507T150000
DTEND;TZID=America/New_York:20280507T160000
DTSTAMP:20260422T174913
CREATED:20160202T142204Z
LAST-MODIFIED:20250409T141351Z
UID:10002131-1841324400-1841328000@cflintergroup.org
SUMMARY:Jaywalkers Group Birthday Meeting and Potluck
DESCRIPTION:On the first Sunday of every month\, the Jaywalkers group holds a birthday speaker meeting followed by a potluck dinner at Redeemer Lutheran Church in Winter Park. (Dishes\, sides\, or desserts are encouraged but not required.)
URL:https://cflintergroup.org/event/jaywalkers-birthday-speaker-meeting-and-potluck-dinner-2016-03-06-2020-04-05/2028-05-07/
LOCATION:Redeemer Lutheran Church\, 3377 Aloma Ave\, Winter Park\, FL\, 32792\, United States
CATEGORIES:Food & Drink
GEO:28.6061295;-81.3039658
X-APPLE-STRUCTURED-LOCATION;VALUE=URI;X-ADDRESS=Redeemer Lutheran Church 3377 Aloma Ave Winter Park FL 32792 United States;X-APPLE-RADIUS=500;X-TITLE=3377 Aloma Ave:geo:-81.3039658,28.6061295
END:VEVENT
BEGIN:VEVENT
DTSTART;TZID=America/New_York:20280525T180000
DTEND;TZID=America/New_York:20280525T200000
DTSTAMP:20260422T174913
CREATED:20250716T011317Z
LAST-MODIFIED:20250716T011317Z
UID:10004547-1842890400-1842897600@cflintergroup.org
SUMMARY:Came To Believe Potluck Dinner
DESCRIPTION:Came to Believe invites you to join them on the last Thursday of each month for a potluck dinner at 6pm\, followed by a meeting at 7pm.
URL:https://cflintergroup.org/event/came-to-believe-potluck-dinner/2028-05-25/
LOCATION:REBOS\, 130 Normandy Road\, Casselberry\, FL\, 32707\, United States
CATEGORIES:Food & Drink,Special Event
GEO:28.666617;-81.3405457
X-APPLE-STRUCTURED-LOCATION;VALUE=URI;X-ADDRESS=REBOS 130 Normandy Road Casselberry FL 32707 United States;X-APPLE-RADIUS=500;X-TITLE=130 Normandy Road:geo:-81.3405457,28.666617
END:VEVENT
BEGIN:VEVENT
DTSTART;TZID=America/New_York:20280604T150000
DTEND;TZID=America/New_York:20280604T160000
DTSTAMP:20260422T174913
CREATED:20160202T142204Z
LAST-MODIFIED:20250409T141351Z
UID:10002302-1843743600-1843747200@cflintergroup.org
SUMMARY:Jaywalkers Group Birthday Meeting and Potluck
DESCRIPTION:On the first Sunday of every month\, the Jaywalkers group holds a birthday speaker meeting followed by a potluck dinner at Redeemer Lutheran Church in Winter Park. (Dishes\, sides\, or desserts are encouraged but not required.)
URL:https://cflintergroup.org/event/jaywalkers-birthday-speaker-meeting-and-potluck-dinner-2016-03-06-2020-04-05/2028-06-04/
LOCATION:Redeemer Lutheran Church\, 3377 Aloma Ave\, Winter Park\, FL\, 32792\, United States
CATEGORIES:Food & Drink
GEO:28.6061295;-81.3039658
X-APPLE-STRUCTURED-LOCATION;VALUE=URI;X-ADDRESS=Redeemer Lutheran Church 3377 Aloma Ave Winter Park FL 32792 United States;X-APPLE-RADIUS=500;X-TITLE=3377 Aloma Ave:geo:-81.3039658,28.6061295
END:VEVENT
BEGIN:VEVENT
DTSTART;TZID=America/New_York:20280629T180000
DTEND;TZID=America/New_York:20280629T200000
DTSTAMP:20260422T174913
CREATED:20250716T011317Z
LAST-MODIFIED:20250716T011317Z
UID:10004548-1845914400-1845921600@cflintergroup.org
SUMMARY:Came To Believe Potluck Dinner
DESCRIPTION:Came to Believe invites you to join them on the last Thursday of each month for a potluck dinner at 6pm\, followed by a meeting at 7pm.
URL:https://cflintergroup.org/event/came-to-believe-potluck-dinner/2028-06-29/
LOCATION:REBOS\, 130 Normandy Road\, Casselberry\, FL\, 32707\, United States
CATEGORIES:Food & Drink,Special Event
GEO:28.666617;-81.3405457
X-APPLE-STRUCTURED-LOCATION;VALUE=URI;X-ADDRESS=REBOS 130 Normandy Road Casselberry FL 32707 United States;X-APPLE-RADIUS=500;X-TITLE=130 Normandy Road:geo:-81.3405457,28.666617
END:VEVENT
BEGIN:VEVENT
DTSTART;TZID=America/New_York:20280702T150000
DTEND;TZID=America/New_York:20280702T160000
DTSTAMP:20260422T174913
CREATED:20160202T142204Z
LAST-MODIFIED:20250409T141351Z
UID:10002362-1846162800-1846166400@cflintergroup.org
SUMMARY:Jaywalkers Group Birthday Meeting and Potluck
DESCRIPTION:On the first Sunday of every month\, the Jaywalkers group holds a birthday speaker meeting followed by a potluck dinner at Redeemer Lutheran Church in Winter Park. (Dishes\, sides\, or desserts are encouraged but not required.)
URL:https://cflintergroup.org/event/jaywalkers-birthday-speaker-meeting-and-potluck-dinner-2016-03-06-2020-04-05/2028-07-02/
LOCATION:Redeemer Lutheran Church\, 3377 Aloma Ave\, Winter Park\, FL\, 32792\, United States
CATEGORIES:Food & Drink
GEO:28.6061295;-81.3039658
X-APPLE-STRUCTURED-LOCATION;VALUE=URI;X-ADDRESS=Redeemer Lutheran Church 3377 Aloma Ave Winter Park FL 32792 United States;X-APPLE-RADIUS=500;X-TITLE=3377 Aloma Ave:geo:-81.3039658,28.6061295
END:VEVENT
BEGIN:VEVENT
DTSTART;TZID=America/New_York:20280727T180000
DTEND;TZID=America/New_York:20280727T200000
DTSTAMP:20260422T174913
CREATED:20250716T011317Z
LAST-MODIFIED:20250716T011317Z
UID:10004549-1848333600-1848340800@cflintergroup.org
SUMMARY:Came To Believe Potluck Dinner
DESCRIPTION:Came to Believe invites you to join them on the last Thursday of each month for a potluck dinner at 6pm\, followed by a meeting at 7pm.
URL:https://cflintergroup.org/event/came-to-believe-potluck-dinner/2028-07-27/
LOCATION:REBOS\, 130 Normandy Road\, Casselberry\, FL\, 32707\, United States
CATEGORIES:Food & Drink,Special Event
GEO:28.666617;-81.3405457
X-APPLE-STRUCTURED-LOCATION;VALUE=URI;X-ADDRESS=REBOS 130 Normandy Road Casselberry FL 32707 United States;X-APPLE-RADIUS=500;X-TITLE=130 Normandy Road:geo:-81.3405457,28.666617
END:VEVENT
BEGIN:VEVENT
DTSTART;TZID=America/New_York:20280806T150000
DTEND;TZID=America/New_York:20280806T160000
DTSTAMP:20260422T174913
CREATED:20160202T142204Z
LAST-MODIFIED:20250409T141351Z
UID:10002429-1849186800-1849190400@cflintergroup.org
SUMMARY:Jaywalkers Group Birthday Meeting and Potluck
DESCRIPTION:On the first Sunday of every month\, the Jaywalkers group holds a birthday speaker meeting followed by a potluck dinner at Redeemer Lutheran Church in Winter Park. (Dishes\, sides\, or desserts are encouraged but not required.)
URL:https://cflintergroup.org/event/jaywalkers-birthday-speaker-meeting-and-potluck-dinner-2016-03-06-2020-04-05/2028-08-06/
LOCATION:Redeemer Lutheran Church\, 3377 Aloma Ave\, Winter Park\, FL\, 32792\, United States
CATEGORIES:Food & Drink
GEO:28.6061295;-81.3039658
X-APPLE-STRUCTURED-LOCATION;VALUE=URI;X-ADDRESS=Redeemer Lutheran Church 3377 Aloma Ave Winter Park FL 32792 United States;X-APPLE-RADIUS=500;X-TITLE=3377 Aloma Ave:geo:-81.3039658,28.6061295
END:VEVENT
BEGIN:VEVENT
DTSTART;TZID=America/New_York:20280831T180000
DTEND;TZID=America/New_York:20280831T200000
DTSTAMP:20260422T174913
CREATED:20250716T011317Z
LAST-MODIFIED:20250716T011317Z
UID:10004550-1851357600-1851364800@cflintergroup.org
SUMMARY:Came To Believe Potluck Dinner
DESCRIPTION:Came to Believe invites you to join them on the last Thursday of each month for a potluck dinner at 6pm\, followed by a meeting at 7pm.
URL:https://cflintergroup.org/event/came-to-believe-potluck-dinner/2028-08-31/
LOCATION:REBOS\, 130 Normandy Road\, Casselberry\, FL\, 32707\, United States
CATEGORIES:Food & Drink,Special Event
GEO:28.666617;-81.3405457
X-APPLE-STRUCTURED-LOCATION;VALUE=URI;X-ADDRESS=REBOS 130 Normandy Road Casselberry FL 32707 United States;X-APPLE-RADIUS=500;X-TITLE=130 Normandy Road:geo:-81.3405457,28.666617
END:VEVENT
BEGIN:VEVENT
DTSTART;TZID=America/New_York:20280903T150000
DTEND;TZID=America/New_York:20280903T160000
DTSTAMP:20260422T174913
CREATED:20160202T142204Z
LAST-MODIFIED:20250409T141351Z
UID:10002438-1851606000-1851609600@cflintergroup.org
SUMMARY:Jaywalkers Group Birthday Meeting and Potluck
DESCRIPTION:On the first Sunday of every month\, the Jaywalkers group holds a birthday speaker meeting followed by a potluck dinner at Redeemer Lutheran Church in Winter Park. (Dishes\, sides\, or desserts are encouraged but not required.)
URL:https://cflintergroup.org/event/jaywalkers-birthday-speaker-meeting-and-potluck-dinner-2016-03-06-2020-04-05/2028-09-03/
LOCATION:Redeemer Lutheran Church\, 3377 Aloma Ave\, Winter Park\, FL\, 32792\, United States
CATEGORIES:Food & Drink
GEO:28.6061295;-81.3039658
X-APPLE-STRUCTURED-LOCATION;VALUE=URI;X-ADDRESS=Redeemer Lutheran Church 3377 Aloma Ave Winter Park FL 32792 United States;X-APPLE-RADIUS=500;X-TITLE=3377 Aloma Ave:geo:-81.3039658,28.6061295
END:VEVENT
BEGIN:VEVENT
DTSTART;TZID=America/New_York:20280928T180000
DTEND;TZID=America/New_York:20280928T200000
DTSTAMP:20260422T174913
CREATED:20250716T011317Z
LAST-MODIFIED:20250716T011317Z
UID:10004551-1853776800-1853784000@cflintergroup.org
SUMMARY:Came To Believe Potluck Dinner
DESCRIPTION:Came to Believe invites you to join them on the last Thursday of each month for a potluck dinner at 6pm\, followed by a meeting at 7pm.
URL:https://cflintergroup.org/event/came-to-believe-potluck-dinner/2028-09-28/
LOCATION:REBOS\, 130 Normandy Road\, Casselberry\, FL\, 32707\, United States
CATEGORIES:Food & Drink,Special Event
GEO:28.666617;-81.3405457
X-APPLE-STRUCTURED-LOCATION;VALUE=URI;X-ADDRESS=REBOS 130 Normandy Road Casselberry FL 32707 United States;X-APPLE-RADIUS=500;X-TITLE=130 Normandy Road:geo:-81.3405457,28.666617
END:VEVENT
BEGIN:VEVENT
DTSTART;TZID=America/New_York:20281001T150000
DTEND;TZID=America/New_York:20281001T160000
DTSTAMP:20260422T174913
CREATED:20160202T142204Z
LAST-MODIFIED:20250409T141351Z
UID:10002526-1854025200-1854028800@cflintergroup.org
SUMMARY:Jaywalkers Group Birthday Meeting and Potluck
DESCRIPTION:On the first Sunday of every month\, the Jaywalkers group holds a birthday speaker meeting followed by a potluck dinner at Redeemer Lutheran Church in Winter Park. (Dishes\, sides\, or desserts are encouraged but not required.)
URL:https://cflintergroup.org/event/jaywalkers-birthday-speaker-meeting-and-potluck-dinner-2016-03-06-2020-04-05/2028-10-01/
LOCATION:Redeemer Lutheran Church\, 3377 Aloma Ave\, Winter Park\, FL\, 32792\, United States
CATEGORIES:Food & Drink
GEO:28.6061295;-81.3039658
X-APPLE-STRUCTURED-LOCATION;VALUE=URI;X-ADDRESS=Redeemer Lutheran Church 3377 Aloma Ave Winter Park FL 32792 United States;X-APPLE-RADIUS=500;X-TITLE=3377 Aloma Ave:geo:-81.3039658,28.6061295
END:VEVENT
END:VCALENDAR