BEGIN:VCALENDAR
VERSION:2.0
PRODID:-//Central Florida Intergroup - ECPv6.15.20//NONSGML v1.0//EN
CALSCALE:GREGORIAN
METHOD:PUBLISH
X-ORIGINAL-URL:https://cflintergroup.org
X-WR-CALDESC:Events for Central Florida Intergroup
REFRESH-INTERVAL;VALUE=DURATION:PT1H
X-Robots-Tag:noindex
X-PUBLISHED-TTL:PT1H
BEGIN:VTIMEZONE
TZID:America/New_York
BEGIN:DAYLIGHT
TZOFFSETFROM:-0500
TZOFFSETTO:-0400
TZNAME:EDT
DTSTART:20280312T070000
END:DAYLIGHT
BEGIN:STANDARD
TZOFFSETFROM:-0400
TZOFFSETTO:-0500
TZNAME:EST
DTSTART:20281105T060000
END:STANDARD
BEGIN:DAYLIGHT
TZOFFSETFROM:-0500
TZOFFSETTO:-0400
TZNAME:EDT
DTSTART:20290311T070000
END:DAYLIGHT
BEGIN:STANDARD
TZOFFSETFROM:-0400
TZOFFSETTO:-0500
TZNAME:EST
DTSTART:20291104T060000
END:STANDARD
BEGIN:DAYLIGHT
TZOFFSETFROM:-0500
TZOFFSETTO:-0400
TZNAME:EDT
DTSTART:20300310T070000
END:DAYLIGHT
BEGIN:STANDARD
TZOFFSETFROM:-0400
TZOFFSETTO:-0500
TZNAME:EST
DTSTART:20301103T060000
END:STANDARD
END:VTIMEZONE
BEGIN:VEVENT
DTSTART;TZID=America/New_York:20290215T190500
DTEND;TZID=America/New_York:20290215T200000
DTSTAMP:20260421T212459
CREATED:20240825T143858Z
LAST-MODIFIED:20250128T013947Z
UID:10003259-1865876700-1865880000@cflintergroup.org
SUMMARY:District 9 Meeting
DESCRIPTION:District 9 meets on the 3rd Thursday of each month at 7:15pm. These meetings will take place on Zoom. \nMeeting ID: 637-732-8761\nPasscode: District9
URL:https://cflintergroup.org/event/district-9-meeting/2029-02-15/
LOCATION:Zoom\, FL\, United States
CATEGORIES:District Meeting
END:VEVENT
BEGIN:VEVENT
DTSTART;TZID=America/New_York:20290217T100000
DTEND;TZID=America/New_York:20290217T110000
DTSTAMP:20260421T212459
CREATED:20240407T192301Z
LAST-MODIFIED:20240407T192320Z
UID:10002778-1866016800-1866020400@cflintergroup.org
SUMMARY:Area 14 Online District 2 Monthly Meeting
DESCRIPTION:All are welcome to attend this business meeting for Area 14’s virtual District 2. \nTo take part\, sign into Zoom and use this link.
URL:https://cflintergroup.org/event/carrying-the-message-virtually-area-14s-online-district-2s-first-business-meeting-2/2029-02-17/
LOCATION:Zoom\, FL\, United States
CATEGORIES:District Meeting,Service Meetings
ORGANIZER;CN="Area 14":MAILTO:chairperson@aanorthflorida.org
END:VEVENT
BEGIN:VEVENT
DTSTART;TZID=America/New_York:20290226T183000
DTEND;TZID=America/New_York:20290226T193000
DTSTAMP:20260421T212459
CREATED:20260125T162435Z
LAST-MODIFIED:20260125T162435Z
UID:10004324-1866825000-1866828600@cflintergroup.org
SUMMARY:District 10 Meeting
DESCRIPTION:District 10 meets on the last Monday of every month at 6:30 PM on Zoom. \nhttps://us04web.zoom.us/j/75114579999?pwd=G9C9xF4qvrKFnIIiddPga1VoTjBHNi.1 \nMeeting ID: 751 1457 9999\nPasscode: hope
URL:https://cflintergroup.org/event/district-10-meeting-3-2-2/2029-02-26/
LOCATION:FL
CATEGORIES:District Meeting,Service Meetings
END:VEVENT
BEGIN:VEVENT
DTSTART;TZID=America/New_York:20290315T190500
DTEND;TZID=America/New_York:20290315T200000
DTSTAMP:20260421T212459
CREATED:20240825T143858Z
LAST-MODIFIED:20250128T013947Z
UID:10003260-1868295900-1868299200@cflintergroup.org
SUMMARY:District 9 Meeting
DESCRIPTION:District 9 meets on the 3rd Thursday of each month at 7:15pm. These meetings will take place on Zoom. \nMeeting ID: 637-732-8761\nPasscode: District9
URL:https://cflintergroup.org/event/district-9-meeting/2029-03-15/
LOCATION:Zoom\, FL\, United States
CATEGORIES:District Meeting
END:VEVENT
BEGIN:VEVENT
DTSTART;TZID=America/New_York:20290317T100000
DTEND;TZID=America/New_York:20290317T110000
DTSTAMP:20260421T212459
CREATED:20240407T192301Z
LAST-MODIFIED:20240407T192320Z
UID:10002779-1868436000-1868439600@cflintergroup.org
SUMMARY:Area 14 Online District 2 Monthly Meeting
DESCRIPTION:All are welcome to attend this business meeting for Area 14’s virtual District 2. \nTo take part\, sign into Zoom and use this link.
URL:https://cflintergroup.org/event/carrying-the-message-virtually-area-14s-online-district-2s-first-business-meeting-2/2029-03-17/
LOCATION:Zoom\, FL\, United States
CATEGORIES:District Meeting,Service Meetings
ORGANIZER;CN="Area 14":MAILTO:chairperson@aanorthflorida.org
END:VEVENT
BEGIN:VEVENT
DTSTART;TZID=America/New_York:20290326T183000
DTEND;TZID=America/New_York:20290326T193000
DTSTAMP:20260421T212459
CREATED:20260125T162435Z
LAST-MODIFIED:20260125T162435Z
UID:10004325-1869244200-1869247800@cflintergroup.org
SUMMARY:District 10 Meeting
DESCRIPTION:District 10 meets on the last Monday of every month at 6:30 PM on Zoom. \nhttps://us04web.zoom.us/j/75114579999?pwd=G9C9xF4qvrKFnIIiddPga1VoTjBHNi.1 \nMeeting ID: 751 1457 9999\nPasscode: hope
URL:https://cflintergroup.org/event/district-10-meeting-3-2-2/2029-03-26/
LOCATION:FL
CATEGORIES:District Meeting,Service Meetings
END:VEVENT
BEGIN:VEVENT
DTSTART;TZID=America/New_York:20290419T190500
DTEND;TZID=America/New_York:20290419T200000
DTSTAMP:20260421T212459
CREATED:20240825T143858Z
LAST-MODIFIED:20250128T013947Z
UID:10003261-1871319900-1871323200@cflintergroup.org
SUMMARY:District 9 Meeting
DESCRIPTION:District 9 meets on the 3rd Thursday of each month at 7:15pm. These meetings will take place on Zoom. \nMeeting ID: 637-732-8761\nPasscode: District9
URL:https://cflintergroup.org/event/district-9-meeting/2029-04-19/
LOCATION:Zoom\, FL\, United States
CATEGORIES:District Meeting
END:VEVENT
BEGIN:VEVENT
DTSTART;TZID=America/New_York:20290421T100000
DTEND;TZID=America/New_York:20290421T110000
DTSTAMP:20260421T212459
CREATED:20240407T192301Z
LAST-MODIFIED:20240407T192320Z
UID:10004404-1871460000-1871463600@cflintergroup.org
SUMMARY:Area 14 Online District 2 Monthly Meeting
DESCRIPTION:All are welcome to attend this business meeting for Area 14’s virtual District 2. \nTo take part\, sign into Zoom and use this link.
URL:https://cflintergroup.org/event/carrying-the-message-virtually-area-14s-online-district-2s-first-business-meeting-2/2029-04-21/
LOCATION:Zoom\, FL\, United States
CATEGORIES:District Meeting,Service Meetings
ORGANIZER;CN="Area 14":MAILTO:chairperson@aanorthflorida.org
END:VEVENT
BEGIN:VEVENT
DTSTART;TZID=America/New_York:20290423T183000
DTEND;TZID=America/New_York:20290423T193000
DTSTAMP:20260421T212459
CREATED:20260125T162435Z
LAST-MODIFIED:20260125T162435Z
UID:10004326-1871663400-1871667000@cflintergroup.org
SUMMARY:District 10 Meeting
DESCRIPTION:District 10 meets on the last Monday of every month at 6:30 PM on Zoom. \nhttps://us04web.zoom.us/j/75114579999?pwd=G9C9xF4qvrKFnIIiddPga1VoTjBHNi.1 \nMeeting ID: 751 1457 9999\nPasscode: hope
URL:https://cflintergroup.org/event/district-10-meeting-3-2-2/2029-04-23/
LOCATION:FL
CATEGORIES:District Meeting,Service Meetings
END:VEVENT
BEGIN:VEVENT
DTSTART;TZID=America/New_York:20290517T190500
DTEND;TZID=America/New_York:20290517T200000
DTSTAMP:20260421T212459
CREATED:20240825T143858Z
LAST-MODIFIED:20250128T013947Z
UID:10003262-1873739100-1873742400@cflintergroup.org
SUMMARY:District 9 Meeting
DESCRIPTION:District 9 meets on the 3rd Thursday of each month at 7:15pm. These meetings will take place on Zoom. \nMeeting ID: 637-732-8761\nPasscode: District9
URL:https://cflintergroup.org/event/district-9-meeting/2029-05-17/
LOCATION:Zoom\, FL\, United States
CATEGORIES:District Meeting
END:VEVENT
BEGIN:VEVENT
DTSTART;TZID=America/New_York:20290519T100000
DTEND;TZID=America/New_York:20290519T110000
DTSTAMP:20260421T212459
CREATED:20240407T192301Z
LAST-MODIFIED:20240407T192320Z
UID:10004405-1873879200-1873882800@cflintergroup.org
SUMMARY:Area 14 Online District 2 Monthly Meeting
DESCRIPTION:All are welcome to attend this business meeting for Area 14’s virtual District 2. \nTo take part\, sign into Zoom and use this link.
URL:https://cflintergroup.org/event/carrying-the-message-virtually-area-14s-online-district-2s-first-business-meeting-2/2029-05-19/
LOCATION:Zoom\, FL\, United States
CATEGORIES:District Meeting,Service Meetings
ORGANIZER;CN="Area 14":MAILTO:chairperson@aanorthflorida.org
END:VEVENT
BEGIN:VEVENT
DTSTART;TZID=America/New_York:20290528T183000
DTEND;TZID=America/New_York:20290528T193000
DTSTAMP:20260421T212459
CREATED:20260125T162435Z
LAST-MODIFIED:20260125T162435Z
UID:10004327-1874687400-1874691000@cflintergroup.org
SUMMARY:District 10 Meeting
DESCRIPTION:District 10 meets on the last Monday of every month at 6:30 PM on Zoom. \nhttps://us04web.zoom.us/j/75114579999?pwd=G9C9xF4qvrKFnIIiddPga1VoTjBHNi.1 \nMeeting ID: 751 1457 9999\nPasscode: hope
URL:https://cflintergroup.org/event/district-10-meeting-3-2-2/2029-05-28/
LOCATION:FL
CATEGORIES:District Meeting,Service Meetings
END:VEVENT
BEGIN:VEVENT
DTSTART;TZID=America/New_York:20290616T100000
DTEND;TZID=America/New_York:20290616T110000
DTSTAMP:20260421T212459
CREATED:20240407T192301Z
LAST-MODIFIED:20240407T192320Z
UID:10004406-1876298400-1876302000@cflintergroup.org
SUMMARY:Area 14 Online District 2 Monthly Meeting
DESCRIPTION:All are welcome to attend this business meeting for Area 14’s virtual District 2. \nTo take part\, sign into Zoom and use this link.
URL:https://cflintergroup.org/event/carrying-the-message-virtually-area-14s-online-district-2s-first-business-meeting-2/2029-06-16/
LOCATION:Zoom\, FL\, United States
CATEGORIES:District Meeting,Service Meetings
ORGANIZER;CN="Area 14":MAILTO:chairperson@aanorthflorida.org
END:VEVENT
BEGIN:VEVENT
DTSTART;TZID=America/New_York:20290621T190500
DTEND;TZID=America/New_York:20290621T200000
DTSTAMP:20260421T212459
CREATED:20240825T143858Z
LAST-MODIFIED:20250128T013947Z
UID:10003263-1876763100-1876766400@cflintergroup.org
SUMMARY:District 9 Meeting
DESCRIPTION:District 9 meets on the 3rd Thursday of each month at 7:15pm. These meetings will take place on Zoom. \nMeeting ID: 637-732-8761\nPasscode: District9
URL:https://cflintergroup.org/event/district-9-meeting/2029-06-21/
LOCATION:Zoom\, FL\, United States
CATEGORIES:District Meeting
END:VEVENT
BEGIN:VEVENT
DTSTART;TZID=America/New_York:20290625T183000
DTEND;TZID=America/New_York:20290625T193000
DTSTAMP:20260421T212459
CREATED:20260125T162435Z
LAST-MODIFIED:20260125T162435Z
UID:10004328-1877106600-1877110200@cflintergroup.org
SUMMARY:District 10 Meeting
DESCRIPTION:District 10 meets on the last Monday of every month at 6:30 PM on Zoom. \nhttps://us04web.zoom.us/j/75114579999?pwd=G9C9xF4qvrKFnIIiddPga1VoTjBHNi.1 \nMeeting ID: 751 1457 9999\nPasscode: hope
URL:https://cflintergroup.org/event/district-10-meeting-3-2-2/2029-06-25/
LOCATION:FL
CATEGORIES:District Meeting,Service Meetings
END:VEVENT
BEGIN:VEVENT
DTSTART;TZID=America/New_York:20290719T190500
DTEND;TZID=America/New_York:20290719T200000
DTSTAMP:20260421T212459
CREATED:20240825T143858Z
LAST-MODIFIED:20250128T013947Z
UID:10003264-1879182300-1879185600@cflintergroup.org
SUMMARY:District 9 Meeting
DESCRIPTION:District 9 meets on the 3rd Thursday of each month at 7:15pm. These meetings will take place on Zoom. \nMeeting ID: 637-732-8761\nPasscode: District9
URL:https://cflintergroup.org/event/district-9-meeting/2029-07-19/
LOCATION:Zoom\, FL\, United States
CATEGORIES:District Meeting
END:VEVENT
BEGIN:VEVENT
DTSTART;TZID=America/New_York:20290721T100000
DTEND;TZID=America/New_York:20290721T110000
DTSTAMP:20260421T212459
CREATED:20240407T192301Z
LAST-MODIFIED:20240407T192320Z
UID:10004407-1879322400-1879326000@cflintergroup.org
SUMMARY:Area 14 Online District 2 Monthly Meeting
DESCRIPTION:All are welcome to attend this business meeting for Area 14’s virtual District 2. \nTo take part\, sign into Zoom and use this link.
URL:https://cflintergroup.org/event/carrying-the-message-virtually-area-14s-online-district-2s-first-business-meeting-2/2029-07-21/
LOCATION:Zoom\, FL\, United States
CATEGORIES:District Meeting,Service Meetings
ORGANIZER;CN="Area 14":MAILTO:chairperson@aanorthflorida.org
END:VEVENT
BEGIN:VEVENT
DTSTART;TZID=America/New_York:20290723T183000
DTEND;TZID=America/New_York:20290723T193000
DTSTAMP:20260421T212459
CREATED:20260125T162435Z
LAST-MODIFIED:20260125T162435Z
UID:10004329-1879525800-1879529400@cflintergroup.org
SUMMARY:District 10 Meeting
DESCRIPTION:District 10 meets on the last Monday of every month at 6:30 PM on Zoom. \nhttps://us04web.zoom.us/j/75114579999?pwd=G9C9xF4qvrKFnIIiddPga1VoTjBHNi.1 \nMeeting ID: 751 1457 9999\nPasscode: hope
URL:https://cflintergroup.org/event/district-10-meeting-3-2-2/2029-07-23/
LOCATION:FL
CATEGORIES:District Meeting,Service Meetings
END:VEVENT
BEGIN:VEVENT
DTSTART;TZID=America/New_York:20290816T190500
DTEND;TZID=America/New_York:20290816T200000
DTSTAMP:20260421T212459
CREATED:20240825T143858Z
LAST-MODIFIED:20250128T013947Z
UID:10003265-1881601500-1881604800@cflintergroup.org
SUMMARY:District 9 Meeting
DESCRIPTION:District 9 meets on the 3rd Thursday of each month at 7:15pm. These meetings will take place on Zoom. \nMeeting ID: 637-732-8761\nPasscode: District9
URL:https://cflintergroup.org/event/district-9-meeting/2029-08-16/
LOCATION:Zoom\, FL\, United States
CATEGORIES:District Meeting
END:VEVENT
BEGIN:VEVENT
DTSTART;TZID=America/New_York:20290818T100000
DTEND;TZID=America/New_York:20290818T110000
DTSTAMP:20260421T212459
CREATED:20240407T192301Z
LAST-MODIFIED:20240407T192320Z
UID:10004408-1881741600-1881745200@cflintergroup.org
SUMMARY:Area 14 Online District 2 Monthly Meeting
DESCRIPTION:All are welcome to attend this business meeting for Area 14’s virtual District 2. \nTo take part\, sign into Zoom and use this link.
URL:https://cflintergroup.org/event/carrying-the-message-virtually-area-14s-online-district-2s-first-business-meeting-2/2029-08-18/
LOCATION:Zoom\, FL\, United States
CATEGORIES:District Meeting,Service Meetings
ORGANIZER;CN="Area 14":MAILTO:chairperson@aanorthflorida.org
END:VEVENT
BEGIN:VEVENT
DTSTART;TZID=America/New_York:20290827T183000
DTEND;TZID=America/New_York:20290827T193000
DTSTAMP:20260421T212459
CREATED:20260125T162435Z
LAST-MODIFIED:20260125T162435Z
UID:10004330-1882549800-1882553400@cflintergroup.org
SUMMARY:District 10 Meeting
DESCRIPTION:District 10 meets on the last Monday of every month at 6:30 PM on Zoom. \nhttps://us04web.zoom.us/j/75114579999?pwd=G9C9xF4qvrKFnIIiddPga1VoTjBHNi.1 \nMeeting ID: 751 1457 9999\nPasscode: hope
URL:https://cflintergroup.org/event/district-10-meeting-3-2-2/2029-08-27/
LOCATION:FL
CATEGORIES:District Meeting,Service Meetings
END:VEVENT
BEGIN:VEVENT
DTSTART;TZID=America/New_York:20290915T100000
DTEND;TZID=America/New_York:20290915T110000
DTSTAMP:20260421T212459
CREATED:20240407T192301Z
LAST-MODIFIED:20240407T192320Z
UID:10004409-1884160800-1884164400@cflintergroup.org
SUMMARY:Area 14 Online District 2 Monthly Meeting
DESCRIPTION:All are welcome to attend this business meeting for Area 14’s virtual District 2. \nTo take part\, sign into Zoom and use this link.
URL:https://cflintergroup.org/event/carrying-the-message-virtually-area-14s-online-district-2s-first-business-meeting-2/2029-09-15/
LOCATION:Zoom\, FL\, United States
CATEGORIES:District Meeting,Service Meetings
ORGANIZER;CN="Area 14":MAILTO:chairperson@aanorthflorida.org
END:VEVENT
BEGIN:VEVENT
DTSTART;TZID=America/New_York:20290920T190500
DTEND;TZID=America/New_York:20290920T200000
DTSTAMP:20260421T212459
CREATED:20240825T143858Z
LAST-MODIFIED:20250128T013947Z
UID:10003667-1884625500-1884628800@cflintergroup.org
SUMMARY:District 9 Meeting
DESCRIPTION:District 9 meets on the 3rd Thursday of each month at 7:15pm. These meetings will take place on Zoom. \nMeeting ID: 637-732-8761\nPasscode: District9
URL:https://cflintergroup.org/event/district-9-meeting/2029-09-20/
LOCATION:Zoom\, FL\, United States
CATEGORIES:District Meeting
END:VEVENT
BEGIN:VEVENT
DTSTART;TZID=America/New_York:20290924T183000
DTEND;TZID=America/New_York:20290924T193000
DTSTAMP:20260421T212459
CREATED:20260125T162435Z
LAST-MODIFIED:20260125T162435Z
UID:10004331-1884969000-1884972600@cflintergroup.org
SUMMARY:District 10 Meeting
DESCRIPTION:District 10 meets on the last Monday of every month at 6:30 PM on Zoom. \nhttps://us04web.zoom.us/j/75114579999?pwd=G9C9xF4qvrKFnIIiddPga1VoTjBHNi.1 \nMeeting ID: 751 1457 9999\nPasscode: hope
URL:https://cflintergroup.org/event/district-10-meeting-3-2-2/2029-09-24/
LOCATION:FL
CATEGORIES:District Meeting,Service Meetings
END:VEVENT
BEGIN:VEVENT
DTSTART;TZID=America/New_York:20291018T190500
DTEND;TZID=America/New_York:20291018T200000
DTSTAMP:20260421T212459
CREATED:20240825T143858Z
LAST-MODIFIED:20250128T013947Z
UID:10003668-1887044700-1887048000@cflintergroup.org
SUMMARY:District 9 Meeting
DESCRIPTION:District 9 meets on the 3rd Thursday of each month at 7:15pm. These meetings will take place on Zoom. \nMeeting ID: 637-732-8761\nPasscode: District9
URL:https://cflintergroup.org/event/district-9-meeting/2029-10-18/
LOCATION:Zoom\, FL\, United States
CATEGORIES:District Meeting
END:VEVENT
BEGIN:VEVENT
DTSTART;TZID=America/New_York:20291020T100000
DTEND;TZID=America/New_York:20291020T110000
DTSTAMP:20260421T212459
CREATED:20240407T192301Z
LAST-MODIFIED:20240407T192320Z
UID:10004410-1887184800-1887188400@cflintergroup.org
SUMMARY:Area 14 Online District 2 Monthly Meeting
DESCRIPTION:All are welcome to attend this business meeting for Area 14’s virtual District 2. \nTo take part\, sign into Zoom and use this link.
URL:https://cflintergroup.org/event/carrying-the-message-virtually-area-14s-online-district-2s-first-business-meeting-2/2029-10-20/
LOCATION:Zoom\, FL\, United States
CATEGORIES:District Meeting,Service Meetings
ORGANIZER;CN="Area 14":MAILTO:chairperson@aanorthflorida.org
END:VEVENT
BEGIN:VEVENT
DTSTART;TZID=America/New_York:20291022T183000
DTEND;TZID=America/New_York:20291022T193000
DTSTAMP:20260421T212459
CREATED:20260125T162435Z
LAST-MODIFIED:20260125T162435Z
UID:10004332-1887388200-1887391800@cflintergroup.org
SUMMARY:District 10 Meeting
DESCRIPTION:District 10 meets on the last Monday of every month at 6:30 PM on Zoom. \nhttps://us04web.zoom.us/j/75114579999?pwd=G9C9xF4qvrKFnIIiddPga1VoTjBHNi.1 \nMeeting ID: 751 1457 9999\nPasscode: hope
URL:https://cflintergroup.org/event/district-10-meeting-3-2-2/2029-10-22/
LOCATION:FL
CATEGORIES:District Meeting,Service Meetings
END:VEVENT
BEGIN:VEVENT
DTSTART;TZID=America/New_York:20291115T190500
DTEND;TZID=America/New_York:20291115T200000
DTSTAMP:20260421T212459
CREATED:20240825T143858Z
LAST-MODIFIED:20250128T013947Z
UID:10003669-1889463900-1889467200@cflintergroup.org
SUMMARY:District 9 Meeting
DESCRIPTION:District 9 meets on the 3rd Thursday of each month at 7:15pm. These meetings will take place on Zoom. \nMeeting ID: 637-732-8761\nPasscode: District9
URL:https://cflintergroup.org/event/district-9-meeting/2029-11-15/
LOCATION:Zoom\, FL\, United States
CATEGORIES:District Meeting
END:VEVENT
BEGIN:VEVENT
DTSTART;TZID=America/New_York:20291117T100000
DTEND;TZID=America/New_York:20291117T110000
DTSTAMP:20260421T212459
CREATED:20240407T192301Z
LAST-MODIFIED:20240407T192320Z
UID:10004411-1889604000-1889607600@cflintergroup.org
SUMMARY:Area 14 Online District 2 Monthly Meeting
DESCRIPTION:All are welcome to attend this business meeting for Area 14’s virtual District 2. \nTo take part\, sign into Zoom and use this link.
URL:https://cflintergroup.org/event/carrying-the-message-virtually-area-14s-online-district-2s-first-business-meeting-2/2029-11-17/
LOCATION:Zoom\, FL\, United States
CATEGORIES:District Meeting,Service Meetings
ORGANIZER;CN="Area 14":MAILTO:chairperson@aanorthflorida.org
END:VEVENT
BEGIN:VEVENT
DTSTART;TZID=America/New_York:20291126T183000
DTEND;TZID=America/New_York:20291126T193000
DTSTAMP:20260421T212459
CREATED:20260125T162435Z
LAST-MODIFIED:20260125T162435Z
UID:10004333-1890412200-1890415800@cflintergroup.org
SUMMARY:District 10 Meeting
DESCRIPTION:District 10 meets on the last Monday of every month at 6:30 PM on Zoom. \nhttps://us04web.zoom.us/j/75114579999?pwd=G9C9xF4qvrKFnIIiddPga1VoTjBHNi.1 \nMeeting ID: 751 1457 9999\nPasscode: hope
URL:https://cflintergroup.org/event/district-10-meeting-3-2-2/2029-11-26/
LOCATION:FL
CATEGORIES:District Meeting,Service Meetings
END:VEVENT
END:VCALENDAR