BEGIN:VCALENDAR
VERSION:2.0
PRODID:-//Central Florida Intergroup - ECPv6.15.20//NONSGML v1.0//EN
CALSCALE:GREGORIAN
METHOD:PUBLISH
X-WR-CALNAME:Central Florida Intergroup
X-ORIGINAL-URL:https://cflintergroup.org
X-WR-CALDESC:Events for Central Florida Intergroup
REFRESH-INTERVAL;VALUE=DURATION:PT1H
X-Robots-Tag:noindex
X-PUBLISHED-TTL:PT1H
BEGIN:VTIMEZONE
TZID:America/New_York
BEGIN:DAYLIGHT
TZOFFSETFROM:-0500
TZOFFSETTO:-0400
TZNAME:EDT
DTSTART:20270314T070000
END:DAYLIGHT
BEGIN:STANDARD
TZOFFSETFROM:-0400
TZOFFSETTO:-0500
TZNAME:EST
DTSTART:20271107T060000
END:STANDARD
BEGIN:DAYLIGHT
TZOFFSETFROM:-0500
TZOFFSETTO:-0400
TZNAME:EDT
DTSTART:20280312T070000
END:DAYLIGHT
BEGIN:STANDARD
TZOFFSETFROM:-0400
TZOFFSETTO:-0500
TZNAME:EST
DTSTART:20281105T060000
END:STANDARD
BEGIN:DAYLIGHT
TZOFFSETFROM:-0500
TZOFFSETTO:-0400
TZNAME:EDT
DTSTART:20290311T070000
END:DAYLIGHT
BEGIN:STANDARD
TZOFFSETFROM:-0400
TZOFFSETTO:-0500
TZNAME:EST
DTSTART:20291104T060000
END:STANDARD
BEGIN:DAYLIGHT
TZOFFSETFROM:-0500
TZOFFSETTO:-0400
TZNAME:EDT
DTSTART:20300310T070000
END:DAYLIGHT
BEGIN:STANDARD
TZOFFSETFROM:-0400
TZOFFSETTO:-0500
TZNAME:EST
DTSTART:20301103T060000
END:STANDARD
END:VTIMEZONE
BEGIN:VEVENT
DTSTART;TZID=America/New_York:20280415T100000
DTEND;TZID=America/New_York:20280415T110000
DTSTAMP:20260421T160712
CREATED:20240407T192301Z
LAST-MODIFIED:20240407T192320Z
UID:10002654-1839405600-1839409200@cflintergroup.org
SUMMARY:Area 14 Online District 2 Monthly Meeting
DESCRIPTION:All are welcome to attend this business meeting for Area 14’s virtual District 2. \nTo take part\, sign into Zoom and use this link.
URL:https://cflintergroup.org/event/carrying-the-message-virtually-area-14s-online-district-2s-first-business-meeting-2/2028-04-15/
LOCATION:Zoom\, FL\, United States
CATEGORIES:District Meeting,Service Meetings
ORGANIZER;CN="Area 14":MAILTO:chairperson@aanorthflorida.org
END:VEVENT
BEGIN:VEVENT
DTSTART;TZID=America/New_York:20280420T190500
DTEND;TZID=America/New_York:20280420T200000
DTSTAMP:20260421T160712
CREATED:20240825T143858Z
LAST-MODIFIED:20250128T013947Z
UID:10003249-1839870300-1839873600@cflintergroup.org
SUMMARY:District 9 Meeting
DESCRIPTION:District 9 meets on the 3rd Thursday of each month at 7:15pm. These meetings will take place on Zoom. \nMeeting ID: 637-732-8761\nPasscode: District9
URL:https://cflintergroup.org/event/district-9-meeting/2028-04-20/
LOCATION:Zoom\, FL\, United States
CATEGORIES:District Meeting
END:VEVENT
BEGIN:VEVENT
DTSTART;TZID=America/New_York:20280424T183000
DTEND;TZID=America/New_York:20280424T193000
DTSTAMP:20260421T160712
CREATED:20260125T162435Z
LAST-MODIFIED:20260125T162435Z
UID:10004314-1840213800-1840217400@cflintergroup.org
SUMMARY:District 10 Meeting
DESCRIPTION:District 10 meets on the last Monday of every month at 6:30 PM on Zoom. \nhttps://us04web.zoom.us/j/75114579999?pwd=G9C9xF4qvrKFnIIiddPga1VoTjBHNi.1 \nMeeting ID: 751 1457 9999\nPasscode: hope
URL:https://cflintergroup.org/event/district-10-meeting-3-2-2/2028-04-24/
LOCATION:FL
CATEGORIES:District Meeting,Service Meetings
END:VEVENT
BEGIN:VEVENT
DTSTART;TZID=America/New_York:20280518T190500
DTEND;TZID=America/New_York:20280518T200000
DTSTAMP:20260421T160712
CREATED:20240825T143858Z
LAST-MODIFIED:20250128T013947Z
UID:10003250-1842289500-1842292800@cflintergroup.org
SUMMARY:District 9 Meeting
DESCRIPTION:District 9 meets on the 3rd Thursday of each month at 7:15pm. These meetings will take place on Zoom. \nMeeting ID: 637-732-8761\nPasscode: District9
URL:https://cflintergroup.org/event/district-9-meeting/2028-05-18/
LOCATION:Zoom\, FL\, United States
CATEGORIES:District Meeting
END:VEVENT
BEGIN:VEVENT
DTSTART;TZID=America/New_York:20280520T100000
DTEND;TZID=America/New_York:20280520T110000
DTSTAMP:20260421T160712
CREATED:20240407T192301Z
LAST-MODIFIED:20240407T192320Z
UID:10002655-1842429600-1842433200@cflintergroup.org
SUMMARY:Area 14 Online District 2 Monthly Meeting
DESCRIPTION:All are welcome to attend this business meeting for Area 14’s virtual District 2. \nTo take part\, sign into Zoom and use this link.
URL:https://cflintergroup.org/event/carrying-the-message-virtually-area-14s-online-district-2s-first-business-meeting-2/2028-05-20/
LOCATION:Zoom\, FL\, United States
CATEGORIES:District Meeting,Service Meetings
ORGANIZER;CN="Area 14":MAILTO:chairperson@aanorthflorida.org
END:VEVENT
BEGIN:VEVENT
DTSTART;TZID=America/New_York:20280522T183000
DTEND;TZID=America/New_York:20280522T193000
DTSTAMP:20260421T160712
CREATED:20260125T162435Z
LAST-MODIFIED:20260125T162435Z
UID:10004315-1842633000-1842636600@cflintergroup.org
SUMMARY:District 10 Meeting
DESCRIPTION:District 10 meets on the last Monday of every month at 6:30 PM on Zoom. \nhttps://us04web.zoom.us/j/75114579999?pwd=G9C9xF4qvrKFnIIiddPga1VoTjBHNi.1 \nMeeting ID: 751 1457 9999\nPasscode: hope
URL:https://cflintergroup.org/event/district-10-meeting-3-2-2/2028-05-22/
LOCATION:FL
CATEGORIES:District Meeting,Service Meetings
END:VEVENT
BEGIN:VEVENT
DTSTART;TZID=America/New_York:20280615T190500
DTEND;TZID=America/New_York:20280615T200000
DTSTAMP:20260421T160712
CREATED:20240825T143858Z
LAST-MODIFIED:20250128T013947Z
UID:10003251-1844708700-1844712000@cflintergroup.org
SUMMARY:District 9 Meeting
DESCRIPTION:District 9 meets on the 3rd Thursday of each month at 7:15pm. These meetings will take place on Zoom. \nMeeting ID: 637-732-8761\nPasscode: District9
URL:https://cflintergroup.org/event/district-9-meeting/2028-06-15/
LOCATION:Zoom\, FL\, United States
CATEGORIES:District Meeting
END:VEVENT
BEGIN:VEVENT
DTSTART;TZID=America/New_York:20280617T100000
DTEND;TZID=America/New_York:20280617T110000
DTSTAMP:20260421T160712
CREATED:20240407T192301Z
LAST-MODIFIED:20240407T192320Z
UID:10002656-1844848800-1844852400@cflintergroup.org
SUMMARY:Area 14 Online District 2 Monthly Meeting
DESCRIPTION:All are welcome to attend this business meeting for Area 14’s virtual District 2. \nTo take part\, sign into Zoom and use this link.
URL:https://cflintergroup.org/event/carrying-the-message-virtually-area-14s-online-district-2s-first-business-meeting-2/2028-06-17/
LOCATION:Zoom\, FL\, United States
CATEGORIES:District Meeting,Service Meetings
ORGANIZER;CN="Area 14":MAILTO:chairperson@aanorthflorida.org
END:VEVENT
BEGIN:VEVENT
DTSTART;TZID=America/New_York:20280626T183000
DTEND;TZID=America/New_York:20280626T193000
DTSTAMP:20260421T160712
CREATED:20260125T162435Z
LAST-MODIFIED:20260125T162435Z
UID:10004316-1845657000-1845660600@cflintergroup.org
SUMMARY:District 10 Meeting
DESCRIPTION:District 10 meets on the last Monday of every month at 6:30 PM on Zoom. \nhttps://us04web.zoom.us/j/75114579999?pwd=G9C9xF4qvrKFnIIiddPga1VoTjBHNi.1 \nMeeting ID: 751 1457 9999\nPasscode: hope
URL:https://cflintergroup.org/event/district-10-meeting-3-2-2/2028-06-26/
LOCATION:FL
CATEGORIES:District Meeting,Service Meetings
END:VEVENT
BEGIN:VEVENT
DTSTART;TZID=America/New_York:20280715T100000
DTEND;TZID=America/New_York:20280715T110000
DTSTAMP:20260421T160712
CREATED:20240407T192301Z
LAST-MODIFIED:20240407T192320Z
UID:10002657-1847268000-1847271600@cflintergroup.org
SUMMARY:Area 14 Online District 2 Monthly Meeting
DESCRIPTION:All are welcome to attend this business meeting for Area 14’s virtual District 2. \nTo take part\, sign into Zoom and use this link.
URL:https://cflintergroup.org/event/carrying-the-message-virtually-area-14s-online-district-2s-first-business-meeting-2/2028-07-15/
LOCATION:Zoom\, FL\, United States
CATEGORIES:District Meeting,Service Meetings
ORGANIZER;CN="Area 14":MAILTO:chairperson@aanorthflorida.org
END:VEVENT
BEGIN:VEVENT
DTSTART;TZID=America/New_York:20280720T190500
DTEND;TZID=America/New_York:20280720T200000
DTSTAMP:20260421T160712
CREATED:20240825T143858Z
LAST-MODIFIED:20250128T013947Z
UID:10003252-1847732700-1847736000@cflintergroup.org
SUMMARY:District 9 Meeting
DESCRIPTION:District 9 meets on the 3rd Thursday of each month at 7:15pm. These meetings will take place on Zoom. \nMeeting ID: 637-732-8761\nPasscode: District9
URL:https://cflintergroup.org/event/district-9-meeting/2028-07-20/
LOCATION:Zoom\, FL\, United States
CATEGORIES:District Meeting
END:VEVENT
BEGIN:VEVENT
DTSTART;TZID=America/New_York:20280724T183000
DTEND;TZID=America/New_York:20280724T193000
DTSTAMP:20260421T160712
CREATED:20260125T162435Z
LAST-MODIFIED:20260125T162435Z
UID:10004317-1848076200-1848079800@cflintergroup.org
SUMMARY:District 10 Meeting
DESCRIPTION:District 10 meets on the last Monday of every month at 6:30 PM on Zoom. \nhttps://us04web.zoom.us/j/75114579999?pwd=G9C9xF4qvrKFnIIiddPga1VoTjBHNi.1 \nMeeting ID: 751 1457 9999\nPasscode: hope
URL:https://cflintergroup.org/event/district-10-meeting-3-2-2/2028-07-24/
LOCATION:FL
CATEGORIES:District Meeting,Service Meetings
END:VEVENT
BEGIN:VEVENT
DTSTART;TZID=America/New_York:20280817T190500
DTEND;TZID=America/New_York:20280817T200000
DTSTAMP:20260421T160712
CREATED:20240825T143858Z
LAST-MODIFIED:20250128T013947Z
UID:10003253-1850151900-1850155200@cflintergroup.org
SUMMARY:District 9 Meeting
DESCRIPTION:District 9 meets on the 3rd Thursday of each month at 7:15pm. These meetings will take place on Zoom. \nMeeting ID: 637-732-8761\nPasscode: District9
URL:https://cflintergroup.org/event/district-9-meeting/2028-08-17/
LOCATION:Zoom\, FL\, United States
CATEGORIES:District Meeting
END:VEVENT
BEGIN:VEVENT
DTSTART;TZID=America/New_York:20280819T100000
DTEND;TZID=America/New_York:20280819T110000
DTSTAMP:20260421T160712
CREATED:20240407T192301Z
LAST-MODIFIED:20240407T192320Z
UID:10002658-1850292000-1850295600@cflintergroup.org
SUMMARY:Area 14 Online District 2 Monthly Meeting
DESCRIPTION:All are welcome to attend this business meeting for Area 14’s virtual District 2. \nTo take part\, sign into Zoom and use this link.
URL:https://cflintergroup.org/event/carrying-the-message-virtually-area-14s-online-district-2s-first-business-meeting-2/2028-08-19/
LOCATION:Zoom\, FL\, United States
CATEGORIES:District Meeting,Service Meetings
ORGANIZER;CN="Area 14":MAILTO:chairperson@aanorthflorida.org
END:VEVENT
BEGIN:VEVENT
DTSTART;TZID=America/New_York:20280828T183000
DTEND;TZID=America/New_York:20280828T193000
DTSTAMP:20260421T160712
CREATED:20260125T162435Z
LAST-MODIFIED:20260125T162435Z
UID:10004318-1851100200-1851103800@cflintergroup.org
SUMMARY:District 10 Meeting
DESCRIPTION:District 10 meets on the last Monday of every month at 6:30 PM on Zoom. \nhttps://us04web.zoom.us/j/75114579999?pwd=G9C9xF4qvrKFnIIiddPga1VoTjBHNi.1 \nMeeting ID: 751 1457 9999\nPasscode: hope
URL:https://cflintergroup.org/event/district-10-meeting-3-2-2/2028-08-28/
LOCATION:FL
CATEGORIES:District Meeting,Service Meetings
END:VEVENT
BEGIN:VEVENT
DTSTART;TZID=America/New_York:20280916T100000
DTEND;TZID=America/New_York:20280916T110000
DTSTAMP:20260421T160712
CREATED:20240407T192301Z
LAST-MODIFIED:20240407T192320Z
UID:10002659-1852711200-1852714800@cflintergroup.org
SUMMARY:Area 14 Online District 2 Monthly Meeting
DESCRIPTION:All are welcome to attend this business meeting for Area 14’s virtual District 2. \nTo take part\, sign into Zoom and use this link.
URL:https://cflintergroup.org/event/carrying-the-message-virtually-area-14s-online-district-2s-first-business-meeting-2/2028-09-16/
LOCATION:Zoom\, FL\, United States
CATEGORIES:District Meeting,Service Meetings
ORGANIZER;CN="Area 14":MAILTO:chairperson@aanorthflorida.org
END:VEVENT
BEGIN:VEVENT
DTSTART;TZID=America/New_York:20280921T190500
DTEND;TZID=America/New_York:20280921T200000
DTSTAMP:20260421T160712
CREATED:20240825T143858Z
LAST-MODIFIED:20250128T013947Z
UID:10003254-1853175900-1853179200@cflintergroup.org
SUMMARY:District 9 Meeting
DESCRIPTION:District 9 meets on the 3rd Thursday of each month at 7:15pm. These meetings will take place on Zoom. \nMeeting ID: 637-732-8761\nPasscode: District9
URL:https://cflintergroup.org/event/district-9-meeting/2028-09-21/
LOCATION:Zoom\, FL\, United States
CATEGORIES:District Meeting
END:VEVENT
BEGIN:VEVENT
DTSTART;TZID=America/New_York:20280925T183000
DTEND;TZID=America/New_York:20280925T193000
DTSTAMP:20260421T160712
CREATED:20260125T162435Z
LAST-MODIFIED:20260125T162435Z
UID:10004319-1853519400-1853523000@cflintergroup.org
SUMMARY:District 10 Meeting
DESCRIPTION:District 10 meets on the last Monday of every month at 6:30 PM on Zoom. \nhttps://us04web.zoom.us/j/75114579999?pwd=G9C9xF4qvrKFnIIiddPga1VoTjBHNi.1 \nMeeting ID: 751 1457 9999\nPasscode: hope
URL:https://cflintergroup.org/event/district-10-meeting-3-2-2/2028-09-25/
LOCATION:FL
CATEGORIES:District Meeting,Service Meetings
END:VEVENT
BEGIN:VEVENT
DTSTART;TZID=America/New_York:20281019T190500
DTEND;TZID=America/New_York:20281019T200000
DTSTAMP:20260421T160712
CREATED:20240825T143858Z
LAST-MODIFIED:20250128T013947Z
UID:10003255-1855595100-1855598400@cflintergroup.org
SUMMARY:District 9 Meeting
DESCRIPTION:District 9 meets on the 3rd Thursday of each month at 7:15pm. These meetings will take place on Zoom. \nMeeting ID: 637-732-8761\nPasscode: District9
URL:https://cflintergroup.org/event/district-9-meeting/2028-10-19/
LOCATION:Zoom\, FL\, United States
CATEGORIES:District Meeting
END:VEVENT
BEGIN:VEVENT
DTSTART;TZID=America/New_York:20281021T100000
DTEND;TZID=America/New_York:20281021T110000
DTSTAMP:20260421T160712
CREATED:20240407T192301Z
LAST-MODIFIED:20240407T192320Z
UID:10002660-1855735200-1855738800@cflintergroup.org
SUMMARY:Area 14 Online District 2 Monthly Meeting
DESCRIPTION:All are welcome to attend this business meeting for Area 14’s virtual District 2. \nTo take part\, sign into Zoom and use this link.
URL:https://cflintergroup.org/event/carrying-the-message-virtually-area-14s-online-district-2s-first-business-meeting-2/2028-10-21/
LOCATION:Zoom\, FL\, United States
CATEGORIES:District Meeting,Service Meetings
ORGANIZER;CN="Area 14":MAILTO:chairperson@aanorthflorida.org
END:VEVENT
BEGIN:VEVENT
DTSTART;TZID=America/New_York:20281023T183000
DTEND;TZID=America/New_York:20281023T193000
DTSTAMP:20260421T160712
CREATED:20260125T162435Z
LAST-MODIFIED:20260125T162435Z
UID:10004320-1855938600-1855942200@cflintergroup.org
SUMMARY:District 10 Meeting
DESCRIPTION:District 10 meets on the last Monday of every month at 6:30 PM on Zoom. \nhttps://us04web.zoom.us/j/75114579999?pwd=G9C9xF4qvrKFnIIiddPga1VoTjBHNi.1 \nMeeting ID: 751 1457 9999\nPasscode: hope
URL:https://cflintergroup.org/event/district-10-meeting-3-2-2/2028-10-23/
LOCATION:FL
CATEGORIES:District Meeting,Service Meetings
END:VEVENT
BEGIN:VEVENT
DTSTART;TZID=America/New_York:20281116T190500
DTEND;TZID=America/New_York:20281116T200000
DTSTAMP:20260421T160712
CREATED:20240825T143858Z
LAST-MODIFIED:20250128T013947Z
UID:10003256-1858014300-1858017600@cflintergroup.org
SUMMARY:District 9 Meeting
DESCRIPTION:District 9 meets on the 3rd Thursday of each month at 7:15pm. These meetings will take place on Zoom. \nMeeting ID: 637-732-8761\nPasscode: District9
URL:https://cflintergroup.org/event/district-9-meeting/2028-11-16/
LOCATION:Zoom\, FL\, United States
CATEGORIES:District Meeting
END:VEVENT
BEGIN:VEVENT
DTSTART;TZID=America/New_York:20281118T100000
DTEND;TZID=America/New_York:20281118T110000
DTSTAMP:20260421T160713
CREATED:20240407T192301Z
LAST-MODIFIED:20240407T192320Z
UID:10002775-1858154400-1858158000@cflintergroup.org
SUMMARY:Area 14 Online District 2 Monthly Meeting
DESCRIPTION:All are welcome to attend this business meeting for Area 14’s virtual District 2. \nTo take part\, sign into Zoom and use this link.
URL:https://cflintergroup.org/event/carrying-the-message-virtually-area-14s-online-district-2s-first-business-meeting-2/2028-11-18/
LOCATION:Zoom\, FL\, United States
CATEGORIES:District Meeting,Service Meetings
ORGANIZER;CN="Area 14":MAILTO:chairperson@aanorthflorida.org
END:VEVENT
BEGIN:VEVENT
DTSTART;TZID=America/New_York:20281127T183000
DTEND;TZID=America/New_York:20281127T193000
DTSTAMP:20260421T160713
CREATED:20260125T162435Z
LAST-MODIFIED:20260125T162435Z
UID:10004321-1858962600-1858966200@cflintergroup.org
SUMMARY:District 10 Meeting
DESCRIPTION:District 10 meets on the last Monday of every month at 6:30 PM on Zoom. \nhttps://us04web.zoom.us/j/75114579999?pwd=G9C9xF4qvrKFnIIiddPga1VoTjBHNi.1 \nMeeting ID: 751 1457 9999\nPasscode: hope
URL:https://cflintergroup.org/event/district-10-meeting-3-2-2/2028-11-27/
LOCATION:FL
CATEGORIES:District Meeting,Service Meetings
END:VEVENT
BEGIN:VEVENT
DTSTART;TZID=America/New_York:20281216T100000
DTEND;TZID=America/New_York:20281216T110000
DTSTAMP:20260421T160713
CREATED:20240407T192301Z
LAST-MODIFIED:20240407T192320Z
UID:10002776-1860573600-1860577200@cflintergroup.org
SUMMARY:Area 14 Online District 2 Monthly Meeting
DESCRIPTION:All are welcome to attend this business meeting for Area 14’s virtual District 2. \nTo take part\, sign into Zoom and use this link.
URL:https://cflintergroup.org/event/carrying-the-message-virtually-area-14s-online-district-2s-first-business-meeting-2/2028-12-16/
LOCATION:Zoom\, FL\, United States
CATEGORIES:District Meeting,Service Meetings
ORGANIZER;CN="Area 14":MAILTO:chairperson@aanorthflorida.org
END:VEVENT
BEGIN:VEVENT
DTSTART;TZID=America/New_York:20281221T190500
DTEND;TZID=America/New_York:20281221T200000
DTSTAMP:20260421T160713
CREATED:20240825T143858Z
LAST-MODIFIED:20250128T013947Z
UID:10003257-1861038300-1861041600@cflintergroup.org
SUMMARY:District 9 Meeting
DESCRIPTION:District 9 meets on the 3rd Thursday of each month at 7:15pm. These meetings will take place on Zoom. \nMeeting ID: 637-732-8761\nPasscode: District9
URL:https://cflintergroup.org/event/district-9-meeting/2028-12-21/
LOCATION:Zoom\, FL\, United States
CATEGORIES:District Meeting
END:VEVENT
BEGIN:VEVENT
DTSTART;TZID=America/New_York:20281225T183000
DTEND;TZID=America/New_York:20281225T193000
DTSTAMP:20260421T160713
CREATED:20260125T162435Z
LAST-MODIFIED:20260125T162435Z
UID:10004322-1861381800-1861385400@cflintergroup.org
SUMMARY:District 10 Meeting
DESCRIPTION:District 10 meets on the last Monday of every month at 6:30 PM on Zoom. \nhttps://us04web.zoom.us/j/75114579999?pwd=G9C9xF4qvrKFnIIiddPga1VoTjBHNi.1 \nMeeting ID: 751 1457 9999\nPasscode: hope
URL:https://cflintergroup.org/event/district-10-meeting-3-2-2/2028-12-25/
LOCATION:FL
CATEGORIES:District Meeting,Service Meetings
END:VEVENT
BEGIN:VEVENT
DTSTART;TZID=America/New_York:20290118T190500
DTEND;TZID=America/New_York:20290118T200000
DTSTAMP:20260421T160713
CREATED:20240825T143858Z
LAST-MODIFIED:20250128T013947Z
UID:10003258-1863457500-1863460800@cflintergroup.org
SUMMARY:District 9 Meeting
DESCRIPTION:District 9 meets on the 3rd Thursday of each month at 7:15pm. These meetings will take place on Zoom. \nMeeting ID: 637-732-8761\nPasscode: District9
URL:https://cflintergroup.org/event/district-9-meeting/2029-01-18/
LOCATION:Zoom\, FL\, United States
CATEGORIES:District Meeting
END:VEVENT
BEGIN:VEVENT
DTSTART;TZID=America/New_York:20290120T100000
DTEND;TZID=America/New_York:20290120T110000
DTSTAMP:20260421T160713
CREATED:20240407T192301Z
LAST-MODIFIED:20240407T192320Z
UID:10002777-1863597600-1863601200@cflintergroup.org
SUMMARY:Area 14 Online District 2 Monthly Meeting
DESCRIPTION:All are welcome to attend this business meeting for Area 14’s virtual District 2. \nTo take part\, sign into Zoom and use this link.
URL:https://cflintergroup.org/event/carrying-the-message-virtually-area-14s-online-district-2s-first-business-meeting-2/2029-01-20/
LOCATION:Zoom\, FL\, United States
CATEGORIES:District Meeting,Service Meetings
ORGANIZER;CN="Area 14":MAILTO:chairperson@aanorthflorida.org
END:VEVENT
BEGIN:VEVENT
DTSTART;TZID=America/New_York:20290122T183000
DTEND;TZID=America/New_York:20290122T193000
DTSTAMP:20260421T160713
CREATED:20260125T162435Z
LAST-MODIFIED:20260125T162435Z
UID:10004323-1863801000-1863804600@cflintergroup.org
SUMMARY:District 10 Meeting
DESCRIPTION:District 10 meets on the last Monday of every month at 6:30 PM on Zoom. \nhttps://us04web.zoom.us/j/75114579999?pwd=G9C9xF4qvrKFnIIiddPga1VoTjBHNi.1 \nMeeting ID: 751 1457 9999\nPasscode: hope
URL:https://cflintergroup.org/event/district-10-meeting-3-2-2/2029-01-22/
LOCATION:FL
CATEGORIES:District Meeting,Service Meetings
END:VEVENT
END:VCALENDAR