BEGIN:VCALENDAR
VERSION:2.0
PRODID:-//Central Florida Intergroup - ECPv6.15.20//NONSGML v1.0//EN
CALSCALE:GREGORIAN
METHOD:PUBLISH
X-ORIGINAL-URL:https://cflintergroup.org
X-WR-CALDESC:Events for Central Florida Intergroup
REFRESH-INTERVAL;VALUE=DURATION:PT1H
X-Robots-Tag:noindex
X-PUBLISHED-TTL:PT1H
BEGIN:VTIMEZONE
TZID:America/New_York
BEGIN:DAYLIGHT
TZOFFSETFROM:-0500
TZOFFSETTO:-0400
TZNAME:EDT
DTSTART:20240310T070000
END:DAYLIGHT
BEGIN:STANDARD
TZOFFSETFROM:-0400
TZOFFSETTO:-0500
TZNAME:EST
DTSTART:20241103T060000
END:STANDARD
BEGIN:DAYLIGHT
TZOFFSETFROM:-0500
TZOFFSETTO:-0400
TZNAME:EDT
DTSTART:20250309T070000
END:DAYLIGHT
BEGIN:STANDARD
TZOFFSETFROM:-0400
TZOFFSETTO:-0500
TZNAME:EST
DTSTART:20251102T060000
END:STANDARD
BEGIN:DAYLIGHT
TZOFFSETFROM:-0500
TZOFFSETTO:-0400
TZNAME:EDT
DTSTART:20260308T070000
END:DAYLIGHT
BEGIN:STANDARD
TZOFFSETFROM:-0400
TZOFFSETTO:-0500
TZNAME:EST
DTSTART:20261101T060000
END:STANDARD
END:VTIMEZONE
BEGIN:VEVENT
DTSTART;TZID=America/New_York:20250727T113000
DTEND;TZID=America/New_York:20250727T123000
DTSTAMP:20260420T102749
CREATED:20241027T161432Z
LAST-MODIFIED:20250211T140830Z
UID:10003799-1753615800-1753619400@cflintergroup.org
SUMMARY:Intergroup Delegates Meeting
DESCRIPTION:The Intergroup Delegates normally meet online the last Sunday of each month. 
URL:https://cflintergroup.org/event/intergroup-delegates-meeting-3-3-2/2025-07-27/
LOCATION:Zoom\, FL\, United States
CATEGORIES:Intergroup Delegates Meeting,Service Meetings
END:VEVENT
BEGIN:VEVENT
DTSTART;TZID=America/New_York:20250728T183000
DTEND;TZID=America/New_York:20250728T193000
DTSTAMP:20260420T102749
CREATED:20250409T141654Z
LAST-MODIFIED:20250409T142211Z
UID:10004281-1753727400-1753731000@cflintergroup.org
SUMMARY:District 10 Meeting
DESCRIPTION:District 10 meets on the last Monday of every month at 6:30 PM on Zoom. \nJoin Zoom Meeting\nhttps://us06web.zoom.us/j/82797158349?pwd=dHFDVVlQWlA1aG9aY3A1aUhxM01yUT09 \nMeeting ID: 827 9715 8349\nPasscode: hope
URL:https://cflintergroup.org/event/district-10-meeting-3-2/2025-07-28/
LOCATION:FL
CATEGORIES:District Meeting,Service Meetings
END:VEVENT
BEGIN:VEVENT
DTSTART;TZID=America/New_York:20250802T143000
DTEND;TZID=America/New_York:20250802T153000
DTSTAMP:20260420T102749
CREATED:20250716T010116Z
LAST-MODIFIED:20250716T010116Z
UID:10004512-1754145000-1754148600@cflintergroup.org
SUMMARY:Voting for the 69th Florida State Convention
DESCRIPTION:Voting for the 69th Florida State Convention will be held via Zoom this August. You MUST be registered for the 68th Florida\nState Convention by July 26th to vote. Make your voice count and help shape the future of our Convention. Please see the flyer for more information.
URL:https://cflintergroup.org/event/voting-for-the-69th-florida-state-convention/
LOCATION:Zoom\, FL\, United States
CATEGORIES:Convention,Service Meetings
END:VEVENT
BEGIN:VEVENT
DTSTART;TZID=America/New_York:20250816T100000
DTEND;TZID=America/New_York:20250816T110000
DTSTAMP:20260420T102749
CREATED:20240407T192301Z
LAST-MODIFIED:20240407T192320Z
UID:10002622-1755338400-1755342000@cflintergroup.org
SUMMARY:Area 14 Online District 2 Monthly Meeting
DESCRIPTION:All are welcome to attend this business meeting for Area 14’s virtual District 2. \nTo take part\, sign into Zoom and use this link.
URL:https://cflintergroup.org/event/carrying-the-message-virtually-area-14s-online-district-2s-first-business-meeting-2/2025-08-16/
LOCATION:Zoom\, FL\, United States
CATEGORIES:District Meeting,Service Meetings
ORGANIZER;CN="Area 14":MAILTO:chairperson@aanorthflorida.org
END:VEVENT
BEGIN:VEVENT
DTSTART;TZID=America/New_York:20250818T190000
DTEND;TZID=America/New_York:20250818T200000
DTSTAMP:20260420T102749
CREATED:20240420T192044Z
LAST-MODIFIED:20240420T192948Z
UID:10003124-1755543600-1755547200@cflintergroup.org
SUMMARY:District 11 Meeting
DESCRIPTION:District 11 meets on the 3rd Monday of each month. These meetings will take place on Zoom. \nLink: https://us06web.zoom.us/j/83668183190 \nMeeting ID:  836 6818 3190\nPasscode: District11
URL:https://cflintergroup.org/event/district-11-meeting-2-2/2025-08-18/
LOCATION:Zoom\, FL\, United States
CATEGORIES:Service Meetings
END:VEVENT
BEGIN:VEVENT
DTSTART;TZID=America/New_York:20250820T183000
DTEND;TZID=America/New_York:20250820T193000
DTSTAMP:20260420T102749
CREATED:20250211T141258Z
LAST-MODIFIED:20250211T141300Z
UID:10004007-1755714600-1755718200@cflintergroup.org
SUMMARY:Intergroup Service Committee
DESCRIPTION:Intergroup Service Committee consists of the Intergroup Officers and occurs 10 days prior to the Intergroup Delegates meeting to discuss the agenda and other business.
URL:https://cflintergroup.org/event/intergroup-service-committee-2022-05-18-2-2-2-2-2-2-2/2025-08-20/
LOCATION:Zoom\, FL\, United States
CATEGORIES:Service Meetings
END:VEVENT
BEGIN:VEVENT
DTSTART;TZID=America/New_York:20250821T190500
DTEND;TZID=America/New_York:20250821T200000
DTSTAMP:20260420T102749
CREATED:20240825T143858Z
LAST-MODIFIED:20250128T013947Z
UID:10003217-1755803100-1755806400@cflintergroup.org
SUMMARY:District 9 Meeting
DESCRIPTION:District 9 meets on the 3rd Thursday of each month at 7:15pm. These meetings will take place on Zoom. \nMeeting ID: 637-732-8761\nPasscode: District9
URL:https://cflintergroup.org/event/district-9-meeting/2025-08-21/
LOCATION:Zoom\, FL\, United States
CATEGORIES:District Meeting
END:VEVENT
BEGIN:VEVENT
DTSTART;TZID=America/New_York:20250825T183000
DTEND;TZID=America/New_York:20250825T193000
DTSTAMP:20260420T102749
CREATED:20250409T141654Z
LAST-MODIFIED:20250409T142211Z
UID:10004282-1756146600-1756150200@cflintergroup.org
SUMMARY:District 10 Meeting
DESCRIPTION:District 10 meets on the last Monday of every month at 6:30 PM on Zoom. \nJoin Zoom Meeting\nhttps://us06web.zoom.us/j/82797158349?pwd=dHFDVVlQWlA1aG9aY3A1aUhxM01yUT09 \nMeeting ID: 827 9715 8349\nPasscode: hope
URL:https://cflintergroup.org/event/district-10-meeting-3-2/2025-08-25/
LOCATION:FL
CATEGORIES:District Meeting,Service Meetings
END:VEVENT
BEGIN:VEVENT
DTSTART;TZID=America/New_York:20250831T113000
DTEND;TZID=America/New_York:20250831T123000
DTSTAMP:20260420T102749
CREATED:20241027T161432Z
LAST-MODIFIED:20250211T140830Z
UID:10003477-1756639800-1756643400@cflintergroup.org
SUMMARY:Intergroup Delegates Meeting
DESCRIPTION:The Intergroup Delegates normally meet online the last Sunday of each month. 
URL:https://cflintergroup.org/event/intergroup-delegates-meeting-3-3-2/2025-08-31/
LOCATION:Zoom\, FL\, United States
CATEGORIES:Intergroup Delegates Meeting,Service Meetings
END:VEVENT
BEGIN:VEVENT
DTSTART;TZID=America/New_York:20250907T080000
DTEND;TZID=America/New_York:20250907T170000
DTSTAMP:20260420T102749
CREATED:20250907T195541Z
LAST-MODIFIED:20250907T195541Z
UID:10004601-1757232000-1757264400@cflintergroup.org
SUMMARY:North Florida Area Assembly - Panel 75
DESCRIPTION:The regular assembly will be held from October 3-5\, 2025\, and October host Districts include 7\, 12\, 14\, 17\, 18\, 19\, 28\, 31. An ice cream and karaoke party will be held on Saturday night in the foyer. For the full agenda and registration information\, please visit the AA North Florida website here.
URL:https://cflintergroup.org/event/north-florida-area-assembly-panel-75/
LOCATION:Orlando Marriott Lake Mary\, 1501 International Parkway\, Lake Mary\, 32746\, United States
CATEGORIES:Service Meetings
ORGANIZER;CN="Area 14":MAILTO:chairperson@aanorthflorida.org
GEO:28.7848215;-81.3558396
X-APPLE-STRUCTURED-LOCATION;VALUE=URI;X-ADDRESS=Orlando Marriott Lake Mary 1501 International Parkway Lake Mary 32746 United States;X-APPLE-RADIUS=500;X-TITLE=1501 International Parkway:geo:-81.3558396,28.7848215
END:VEVENT
BEGIN:VEVENT
DTSTART;TZID=America/New_York:20250915T190000
DTEND;TZID=America/New_York:20250915T200000
DTSTAMP:20260420T102749
CREATED:20240420T192044Z
LAST-MODIFIED:20240420T192948Z
UID:10003125-1757962800-1757966400@cflintergroup.org
SUMMARY:District 11 Meeting
DESCRIPTION:District 11 meets on the 3rd Monday of each month. These meetings will take place on Zoom. \nLink: https://us06web.zoom.us/j/83668183190 \nMeeting ID:  836 6818 3190\nPasscode: District11
URL:https://cflintergroup.org/event/district-11-meeting-2-2/2025-09-15/
LOCATION:Zoom\, FL\, United States
CATEGORIES:Service Meetings
END:VEVENT
BEGIN:VEVENT
DTSTART;TZID=America/New_York:20250917T183000
DTEND;TZID=America/New_York:20250917T193000
DTSTAMP:20260420T102749
CREATED:20250211T141258Z
LAST-MODIFIED:20250211T141300Z
UID:10004008-1758133800-1758137400@cflintergroup.org
SUMMARY:Intergroup Service Committee
DESCRIPTION:Intergroup Service Committee consists of the Intergroup Officers and occurs 10 days prior to the Intergroup Delegates meeting to discuss the agenda and other business.
URL:https://cflintergroup.org/event/intergroup-service-committee-2022-05-18-2-2-2-2-2-2-2/2025-09-17/
LOCATION:Zoom\, FL\, United States
CATEGORIES:Service Meetings
END:VEVENT
BEGIN:VEVENT
DTSTART;TZID=America/New_York:20250918T190500
DTEND;TZID=America/New_York:20250918T200000
DTSTAMP:20260420T102749
CREATED:20240825T143858Z
LAST-MODIFIED:20250128T013947Z
UID:10003218-1758222300-1758225600@cflintergroup.org
SUMMARY:District 9 Meeting
DESCRIPTION:District 9 meets on the 3rd Thursday of each month at 7:15pm. These meetings will take place on Zoom. \nMeeting ID: 637-732-8761\nPasscode: District9
URL:https://cflintergroup.org/event/district-9-meeting/2025-09-18/
LOCATION:Zoom\, FL\, United States
CATEGORIES:District Meeting
END:VEVENT
BEGIN:VEVENT
DTSTART;TZID=America/New_York:20250920T100000
DTEND;TZID=America/New_York:20250920T110000
DTSTAMP:20260420T102749
CREATED:20240407T192301Z
LAST-MODIFIED:20240407T192320Z
UID:10002623-1758362400-1758366000@cflintergroup.org
SUMMARY:Area 14 Online District 2 Monthly Meeting
DESCRIPTION:All are welcome to attend this business meeting for Area 14’s virtual District 2. \nTo take part\, sign into Zoom and use this link.
URL:https://cflintergroup.org/event/carrying-the-message-virtually-area-14s-online-district-2s-first-business-meeting-2/2025-09-20/
LOCATION:Zoom\, FL\, United States
CATEGORIES:District Meeting,Service Meetings
ORGANIZER;CN="Area 14":MAILTO:chairperson@aanorthflorida.org
END:VEVENT
BEGIN:VEVENT
DTSTART;TZID=America/New_York:20250922T183000
DTEND;TZID=America/New_York:20250922T193000
DTSTAMP:20260420T102749
CREATED:20250409T141654Z
LAST-MODIFIED:20250409T142211Z
UID:10004283-1758565800-1758569400@cflintergroup.org
SUMMARY:District 10 Meeting
DESCRIPTION:District 10 meets on the last Monday of every month at 6:30 PM on Zoom. \nJoin Zoom Meeting\nhttps://us06web.zoom.us/j/82797158349?pwd=dHFDVVlQWlA1aG9aY3A1aUhxM01yUT09 \nMeeting ID: 827 9715 8349\nPasscode: hope
URL:https://cflintergroup.org/event/district-10-meeting-3-2/2025-09-22/
LOCATION:FL
CATEGORIES:District Meeting,Service Meetings
END:VEVENT
BEGIN:VEVENT
DTSTART;TZID=America/New_York:20250928T113000
DTEND;TZID=America/New_York:20250928T123000
DTSTAMP:20260420T102749
CREATED:20241027T161432Z
LAST-MODIFIED:20250211T140830Z
UID:10003800-1759059000-1759062600@cflintergroup.org
SUMMARY:Intergroup Delegates Meeting
DESCRIPTION:The Intergroup Delegates normally meet online the last Sunday of each month. 
URL:https://cflintergroup.org/event/intergroup-delegates-meeting-3-3-2/2025-09-28/
LOCATION:Zoom\, FL\, United States
CATEGORIES:Intergroup Delegates Meeting,Service Meetings
END:VEVENT
BEGIN:VEVENT
DTSTART;TZID=America/New_York:20251015T183000
DTEND;TZID=America/New_York:20251015T193000
DTSTAMP:20260420T102749
CREATED:20250211T141258Z
LAST-MODIFIED:20250211T141300Z
UID:10004009-1760553000-1760556600@cflintergroup.org
SUMMARY:Intergroup Service Committee
DESCRIPTION:Intergroup Service Committee consists of the Intergroup Officers and occurs 10 days prior to the Intergroup Delegates meeting to discuss the agenda and other business.
URL:https://cflintergroup.org/event/intergroup-service-committee-2022-05-18-2-2-2-2-2-2-2/2025-10-15/
LOCATION:Zoom\, FL\, United States
CATEGORIES:Service Meetings
END:VEVENT
BEGIN:VEVENT
DTSTART;TZID=America/New_York:20251016T190500
DTEND;TZID=America/New_York:20251016T200000
DTSTAMP:20260420T102749
CREATED:20240825T143858Z
LAST-MODIFIED:20250128T013947Z
UID:10003219-1760641500-1760644800@cflintergroup.org
SUMMARY:District 9 Meeting
DESCRIPTION:District 9 meets on the 3rd Thursday of each month at 7:15pm. These meetings will take place on Zoom. \nMeeting ID: 637-732-8761\nPasscode: District9
URL:https://cflintergroup.org/event/district-9-meeting/2025-10-16/
LOCATION:Zoom\, FL\, United States
CATEGORIES:District Meeting
END:VEVENT
BEGIN:VEVENT
DTSTART;TZID=America/New_York:20251018T100000
DTEND;TZID=America/New_York:20251018T110000
DTSTAMP:20260420T102749
CREATED:20240407T192301Z
LAST-MODIFIED:20240407T192320Z
UID:10002624-1760781600-1760785200@cflintergroup.org
SUMMARY:Area 14 Online District 2 Monthly Meeting
DESCRIPTION:All are welcome to attend this business meeting for Area 14’s virtual District 2. \nTo take part\, sign into Zoom and use this link.
URL:https://cflintergroup.org/event/carrying-the-message-virtually-area-14s-online-district-2s-first-business-meeting-2/2025-10-18/
LOCATION:Zoom\, FL\, United States
CATEGORIES:District Meeting,Service Meetings
ORGANIZER;CN="Area 14":MAILTO:chairperson@aanorthflorida.org
END:VEVENT
BEGIN:VEVENT
DTSTART;TZID=America/New_York:20251020T190000
DTEND;TZID=America/New_York:20251020T200000
DTSTAMP:20260420T102749
CREATED:20240420T192044Z
LAST-MODIFIED:20240420T192948Z
UID:10003126-1760986800-1760990400@cflintergroup.org
SUMMARY:District 11 Meeting
DESCRIPTION:District 11 meets on the 3rd Monday of each month. These meetings will take place on Zoom. \nLink: https://us06web.zoom.us/j/83668183190 \nMeeting ID:  836 6818 3190\nPasscode: District11
URL:https://cflintergroup.org/event/district-11-meeting-2-2/2025-10-20/
LOCATION:Zoom\, FL\, United States
CATEGORIES:Service Meetings
END:VEVENT
BEGIN:VEVENT
DTSTART;TZID=America/New_York:20251026T113000
DTEND;TZID=America/New_York:20251026T123000
DTSTAMP:20260420T102749
CREATED:20241027T161432Z
LAST-MODIFIED:20250211T140830Z
UID:10003801-1761478200-1761481800@cflintergroup.org
SUMMARY:Intergroup Delegates Meeting
DESCRIPTION:The Intergroup Delegates normally meet online the last Sunday of each month. 
URL:https://cflintergroup.org/event/intergroup-delegates-meeting-3-3-2/2025-10-26/
LOCATION:Zoom\, FL\, United States
CATEGORIES:Intergroup Delegates Meeting,Service Meetings
END:VEVENT
BEGIN:VEVENT
DTSTART;TZID=America/New_York:20251027T183000
DTEND;TZID=America/New_York:20251027T193000
DTSTAMP:20260420T102749
CREATED:20250409T141654Z
LAST-MODIFIED:20250409T142211Z
UID:10004284-1761589800-1761593400@cflintergroup.org
SUMMARY:District 10 Meeting
DESCRIPTION:District 10 meets on the last Monday of every month at 6:30 PM on Zoom. \nJoin Zoom Meeting\nhttps://us06web.zoom.us/j/82797158349?pwd=dHFDVVlQWlA1aG9aY3A1aUhxM01yUT09 \nMeeting ID: 827 9715 8349\nPasscode: hope
URL:https://cflintergroup.org/event/district-10-meeting-3-2/2025-10-27/
LOCATION:FL
CATEGORIES:District Meeting,Service Meetings
END:VEVENT
BEGIN:VEVENT
DTSTART;TZID=America/New_York:20251115T100000
DTEND;TZID=America/New_York:20251115T110000
DTSTAMP:20260420T102749
CREATED:20240407T192301Z
LAST-MODIFIED:20240407T192320Z
UID:10002625-1763200800-1763204400@cflintergroup.org
SUMMARY:Area 14 Online District 2 Monthly Meeting
DESCRIPTION:All are welcome to attend this business meeting for Area 14’s virtual District 2. \nTo take part\, sign into Zoom and use this link.
URL:https://cflintergroup.org/event/carrying-the-message-virtually-area-14s-online-district-2s-first-business-meeting-2/2025-11-15/
LOCATION:Zoom\, FL\, United States
CATEGORIES:District Meeting,Service Meetings
ORGANIZER;CN="Area 14":MAILTO:chairperson@aanorthflorida.org
END:VEVENT
BEGIN:VEVENT
DTSTART;TZID=America/New_York:20251117T190000
DTEND;TZID=America/New_York:20251117T200000
DTSTAMP:20260420T102749
CREATED:20240420T192044Z
LAST-MODIFIED:20240420T192948Z
UID:10003127-1763406000-1763409600@cflintergroup.org
SUMMARY:District 11 Meeting
DESCRIPTION:District 11 meets on the 3rd Monday of each month. These meetings will take place on Zoom. \nLink: https://us06web.zoom.us/j/83668183190 \nMeeting ID:  836 6818 3190\nPasscode: District11
URL:https://cflintergroup.org/event/district-11-meeting-2-2/2025-11-17/
LOCATION:Zoom\, FL\, United States
CATEGORIES:Service Meetings
END:VEVENT
BEGIN:VEVENT
DTSTART;TZID=America/New_York:20251119T183000
DTEND;TZID=America/New_York:20251119T193000
DTSTAMP:20260420T102749
CREATED:20250211T141258Z
LAST-MODIFIED:20250211T141300Z
UID:10004010-1763577000-1763580600@cflintergroup.org
SUMMARY:Intergroup Service Committee
DESCRIPTION:Intergroup Service Committee consists of the Intergroup Officers and occurs 10 days prior to the Intergroup Delegates meeting to discuss the agenda and other business.
URL:https://cflintergroup.org/event/intergroup-service-committee-2022-05-18-2-2-2-2-2-2-2/2025-11-19/
LOCATION:Zoom\, FL\, United States
CATEGORIES:Service Meetings
END:VEVENT
BEGIN:VEVENT
DTSTART;TZID=America/New_York:20251120T190500
DTEND;TZID=America/New_York:20251120T200000
DTSTAMP:20260420T102749
CREATED:20240825T143858Z
LAST-MODIFIED:20250128T013947Z
UID:10003220-1763665500-1763668800@cflintergroup.org
SUMMARY:District 9 Meeting
DESCRIPTION:District 9 meets on the 3rd Thursday of each month at 7:15pm. These meetings will take place on Zoom. \nMeeting ID: 637-732-8761\nPasscode: District9
URL:https://cflintergroup.org/event/district-9-meeting/2025-11-20/
LOCATION:Zoom\, FL\, United States
CATEGORIES:District Meeting
END:VEVENT
BEGIN:VEVENT
DTSTART;TZID=America/New_York:20251124T183000
DTEND;TZID=America/New_York:20251124T193000
DTSTAMP:20260420T102749
CREATED:20250409T141654Z
LAST-MODIFIED:20250409T142211Z
UID:10004285-1764009000-1764012600@cflintergroup.org
SUMMARY:District 10 Meeting
DESCRIPTION:District 10 meets on the last Monday of every month at 6:30 PM on Zoom. \nJoin Zoom Meeting\nhttps://us06web.zoom.us/j/82797158349?pwd=dHFDVVlQWlA1aG9aY3A1aUhxM01yUT09 \nMeeting ID: 827 9715 8349\nPasscode: hope
URL:https://cflintergroup.org/event/district-10-meeting-3-2/2025-11-24/
LOCATION:FL
CATEGORIES:District Meeting,Service Meetings
END:VEVENT
BEGIN:VEVENT
DTSTART;TZID=America/New_York:20251130T113000
DTEND;TZID=America/New_York:20251130T123000
DTSTAMP:20260420T102749
CREATED:20241027T161432Z
LAST-MODIFIED:20250211T140830Z
UID:10003478-1764502200-1764505800@cflintergroup.org
SUMMARY:Intergroup Delegates Meeting
DESCRIPTION:The Intergroup Delegates normally meet online the last Sunday of each month. 
URL:https://cflintergroup.org/event/intergroup-delegates-meeting-3-3-2/2025-11-30/
LOCATION:Zoom\, FL\, United States
CATEGORIES:Intergroup Delegates Meeting,Service Meetings
END:VEVENT
BEGIN:VEVENT
DTSTART;TZID=America/New_York:20251215T190000
DTEND;TZID=America/New_York:20251215T200000
DTSTAMP:20260420T102749
CREATED:20240420T192044Z
LAST-MODIFIED:20240420T192948Z
UID:10003128-1765825200-1765828800@cflintergroup.org
SUMMARY:District 11 Meeting
DESCRIPTION:District 11 meets on the 3rd Monday of each month. These meetings will take place on Zoom. \nLink: https://us06web.zoom.us/j/83668183190 \nMeeting ID:  836 6818 3190\nPasscode: District11
URL:https://cflintergroup.org/event/district-11-meeting-2-2/2025-12-15/
LOCATION:Zoom\, FL\, United States
CATEGORIES:Service Meetings
END:VEVENT
BEGIN:VEVENT
DTSTART;TZID=America/New_York:20251217T183000
DTEND;TZID=America/New_York:20251217T193000
DTSTAMP:20260420T102749
CREATED:20250211T141258Z
LAST-MODIFIED:20250211T141300Z
UID:10004011-1765996200-1765999800@cflintergroup.org
SUMMARY:Intergroup Service Committee
DESCRIPTION:Intergroup Service Committee consists of the Intergroup Officers and occurs 10 days prior to the Intergroup Delegates meeting to discuss the agenda and other business.
URL:https://cflintergroup.org/event/intergroup-service-committee-2022-05-18-2-2-2-2-2-2-2/2025-12-17/
LOCATION:Zoom\, FL\, United States
CATEGORIES:Service Meetings
END:VEVENT
END:VCALENDAR