BEGIN:VCALENDAR
VERSION:2.0
PRODID:-//Central Florida Intergroup - ECPv6.15.20//NONSGML v1.0//EN
CALSCALE:GREGORIAN
METHOD:PUBLISH
X-WR-CALNAME:Central Florida Intergroup
X-ORIGINAL-URL:https://cflintergroup.org
X-WR-CALDESC:Events for Central Florida Intergroup
REFRESH-INTERVAL;VALUE=DURATION:PT1H
X-Robots-Tag:noindex
X-PUBLISHED-TTL:PT1H
BEGIN:VTIMEZONE
TZID:America/New_York
BEGIN:DAYLIGHT
TZOFFSETFROM:-0500
TZOFFSETTO:-0400
TZNAME:EDT
DTSTART:20240310T070000
END:DAYLIGHT
BEGIN:STANDARD
TZOFFSETFROM:-0400
TZOFFSETTO:-0500
TZNAME:EST
DTSTART:20241103T060000
END:STANDARD
BEGIN:DAYLIGHT
TZOFFSETFROM:-0500
TZOFFSETTO:-0400
TZNAME:EDT
DTSTART:20250309T070000
END:DAYLIGHT
BEGIN:STANDARD
TZOFFSETFROM:-0400
TZOFFSETTO:-0500
TZNAME:EST
DTSTART:20251102T060000
END:STANDARD
BEGIN:DAYLIGHT
TZOFFSETFROM:-0500
TZOFFSETTO:-0400
TZNAME:EDT
DTSTART:20260308T070000
END:DAYLIGHT
BEGIN:STANDARD
TZOFFSETFROM:-0400
TZOFFSETTO:-0500
TZNAME:EST
DTSTART:20261101T060000
END:STANDARD
END:VTIMEZONE
BEGIN:VEVENT
DTSTART;VALUE=DATE:20250703
DTEND;VALUE=DATE:20250706
DTSTAMP:20260424T230031
CREATED:20250514T205642Z
LAST-MODIFIED:20250514T205642Z
UID:10004423-1751500800-1751759999@cflintergroup.org
SUMMARY:2025 A.A. International Convention
DESCRIPTION:Taking place once every five years\, the A.A. International Convention marks the anniversary of Bill W.’s first meeting with Dr. Bob and the birth of Alcoholics Anonymous in 1935. A.A. members and their families and friends from around the globe attend the event. At the International Convention people attend meetings\, workshops\, dances and events. A highlight is the traditional flag ceremony to celebrate sobriety worldwide. \nVancouver will welcome A.A. members from around the world for the 2025 International Convention. This will mark the 90th anniversary of the beginning of our Fellowship’s founding. The International Convention will take place from July 3 – 6\, 2025\, at the Vancouver Convention Centre and BC Place Stadium. \nThe Florida hospitality suite will be welcoming International Convention visitors from all over the world Thursday through Saturday\, July 3-5. One and one-half hour shifts are available between 9 a.m.-5 p.m. for any A.A. member who wants to be part of the celebration! Sign up to volunteer at: https://forms.gle/vM25MwQ4KQdMzP7K8
URL:https://cflintergroup.org/event/2025-a-a-international-convention/
LOCATION:FL
CATEGORIES:Special Event
END:VEVENT
BEGIN:VEVENT
DTSTART;TZID=America/New_York:20250731T180000
DTEND;TZID=America/New_York:20250731T200000
DTSTAMP:20260424T230031
CREATED:20250716T011317Z
LAST-MODIFIED:20250716T011317Z
UID:10004513-1753984800-1753992000@cflintergroup.org
SUMMARY:Came To Believe Potluck Dinner
DESCRIPTION:Came to Believe invites you to join them on the last Thursday of each month for a potluck dinner at 6pm\, followed by a meeting at 7pm.
URL:https://cflintergroup.org/event/came-to-believe-potluck-dinner/2025-07-31/
LOCATION:REBOS\, 130 Normandy Road\, Casselberry\, FL\, 32707\, United States
CATEGORIES:Food & Drink,Special Event
GEO:28.666617;-81.3405457
X-APPLE-STRUCTURED-LOCATION;VALUE=URI;X-ADDRESS=REBOS 130 Normandy Road Casselberry FL 32707 United States;X-APPLE-RADIUS=500;X-TITLE=130 Normandy Road:geo:-81.3405457,28.666617
END:VEVENT
END:VCALENDAR