BEGIN:VCALENDAR
VERSION:2.0
PRODID:-//Central Florida Intergroup - ECPv6.15.20//NONSGML v1.0//EN
CALSCALE:GREGORIAN
METHOD:PUBLISH
X-ORIGINAL-URL:https://cflintergroup.org
X-WR-CALDESC:Events for Central Florida Intergroup
REFRESH-INTERVAL;VALUE=DURATION:PT1H
X-Robots-Tag:noindex
X-PUBLISHED-TTL:PT1H
BEGIN:VTIMEZONE
TZID:America/New_York
BEGIN:DAYLIGHT
TZOFFSETFROM:-0500
TZOFFSETTO:-0400
TZNAME:EDT
DTSTART:20240310T070000
END:DAYLIGHT
BEGIN:STANDARD
TZOFFSETFROM:-0400
TZOFFSETTO:-0500
TZNAME:EST
DTSTART:20241103T060000
END:STANDARD
BEGIN:DAYLIGHT
TZOFFSETFROM:-0500
TZOFFSETTO:-0400
TZNAME:EDT
DTSTART:20250309T070000
END:DAYLIGHT
BEGIN:STANDARD
TZOFFSETFROM:-0400
TZOFFSETTO:-0500
TZNAME:EST
DTSTART:20251102T060000
END:STANDARD
BEGIN:DAYLIGHT
TZOFFSETFROM:-0500
TZOFFSETTO:-0400
TZNAME:EDT
DTSTART:20260308T070000
END:DAYLIGHT
BEGIN:STANDARD
TZOFFSETFROM:-0400
TZOFFSETTO:-0500
TZNAME:EST
DTSTART:20261101T060000
END:STANDARD
END:VTIMEZONE
BEGIN:VEVENT
DTSTART;TZID=America/New_York:20251018T173000
DTEND;TZID=America/New_York:20251018T210000
DTSTAMP:20260424T173244
CREATED:20250907T191625Z
LAST-MODIFIED:20251012T195036Z
UID:10004596-1760808600-1760821200@cflintergroup.org
SUMMARY:Three Legacies Annual Banquet: A Vision for You
DESCRIPTION:Members are invited to join the Three Legacies group for their annual event\, which includes dinner\, door prizes\, music\, fellowship\, and speaker Shannon K (Fiesta Group\, Jacksonville FL). Reservations strongly encouraged.
URL:https://cflintergroup.org/event/three-legacies-annual-banquet-a-vision-for-you/
LOCATION:Church of the Messiah\, 241 N Main Street\, Winter Garden\, FL\, 34787\, United States
CATEGORIES:Food & Drink,Special Event
GEO:28.5688753;-81.5852614
X-APPLE-STRUCTURED-LOCATION;VALUE=URI;X-ADDRESS=Church of the Messiah 241 N Main Street Winter Garden FL 34787 United States;X-APPLE-RADIUS=500;X-TITLE=241 N Main Street:geo:-81.5852614,28.5688753
END:VEVENT
BEGIN:VEVENT
DTSTART;TZID=America/New_York:20251030T180000
DTEND;TZID=America/New_York:20251030T200000
DTSTAMP:20260424T173244
CREATED:20250716T011317Z
LAST-MODIFIED:20250716T011317Z
UID:10004516-1761847200-1761854400@cflintergroup.org
SUMMARY:Came To Believe Potluck Dinner
DESCRIPTION:Came to Believe invites you to join them on the last Thursday of each month for a potluck dinner at 6pm\, followed by a meeting at 7pm.
URL:https://cflintergroup.org/event/came-to-believe-potluck-dinner/2025-10-30/
LOCATION:REBOS\, 130 Normandy Road\, Casselberry\, FL\, 32707\, United States
CATEGORIES:Food & Drink,Special Event
GEO:28.666617;-81.3405457
X-APPLE-STRUCTURED-LOCATION;VALUE=URI;X-ADDRESS=REBOS 130 Normandy Road Casselberry FL 32707 United States;X-APPLE-RADIUS=500;X-TITLE=130 Normandy Road:geo:-81.3405457,28.666617
END:VEVENT
END:VCALENDAR