BEGIN:VCALENDAR
VERSION:2.0
PRODID:-//Central Florida Intergroup - ECPv6.15.20//NONSGML v1.0//EN
CALSCALE:GREGORIAN
METHOD:PUBLISH
X-ORIGINAL-URL:https://cflintergroup.org
X-WR-CALDESC:Events for Central Florida Intergroup
REFRESH-INTERVAL;VALUE=DURATION:PT1H
X-Robots-Tag:noindex
X-PUBLISHED-TTL:PT1H
BEGIN:VTIMEZONE
TZID:America/New_York
BEGIN:DAYLIGHT
TZOFFSETFROM:-0500
TZOFFSETTO:-0400
TZNAME:EDT
DTSTART:20250309T070000
END:DAYLIGHT
BEGIN:STANDARD
TZOFFSETFROM:-0400
TZOFFSETTO:-0500
TZNAME:EST
DTSTART:20251102T060000
END:STANDARD
BEGIN:DAYLIGHT
TZOFFSETFROM:-0500
TZOFFSETTO:-0400
TZNAME:EDT
DTSTART:20260308T070000
END:DAYLIGHT
BEGIN:STANDARD
TZOFFSETFROM:-0400
TZOFFSETTO:-0500
TZNAME:EST
DTSTART:20261101T060000
END:STANDARD
BEGIN:DAYLIGHT
TZOFFSETFROM:-0500
TZOFFSETTO:-0400
TZNAME:EDT
DTSTART:20270314T070000
END:DAYLIGHT
BEGIN:STANDARD
TZOFFSETFROM:-0400
TZOFFSETTO:-0500
TZNAME:EST
DTSTART:20271107T060000
END:STANDARD
END:VTIMEZONE
BEGIN:VEVENT
DTSTART;TZID=America/New_York:20260211T183000
DTEND;TZID=America/New_York:20260211T193000
DTSTAMP:20260420T085804
CREATED:20250211T141736Z
LAST-MODIFIED:20250211T141736Z
UID:10004117-1770834600-1770838200@cflintergroup.org
SUMMARY:Intergroup Service Committee
DESCRIPTION:Intergroup Service Committee consists of the Intergroup Officers and occurs 10 days prior to the Intergroup Delegates meeting to discuss the agenda and other business.
URL:https://cflintergroup.org/event/intergroup-service-committee-2022-05-18-2-2-2-2-2-2-2-2/2026-02-11/
LOCATION:Zoom\, FL\, United States
CATEGORIES:Service Meetings
END:VEVENT
BEGIN:VEVENT
DTSTART;VALUE=DATE:20260213
DTEND;VALUE=DATE:20260214
DTSTAMP:20260420T085804
CREATED:20220302T211212Z
LAST-MODIFIED:20240420T191836Z
UID:10003076-1770940800-1771027199@cflintergroup.org
SUMMARY:Intergrouper Submission Deadline
DESCRIPTION:
URL:https://cflintergroup.org/event/intergrouper-submission-deadline/2026-02-13/
END:VEVENT
BEGIN:VEVENT
DTSTART;TZID=America/New_York:20260214T190000
DTEND;TZID=America/New_York:20260214T200000
DTSTAMP:20260420T085804
CREATED:20250221T002141Z
LAST-MODIFIED:20250611T223831Z
UID:10004222-1771095600-1771099200@cflintergroup.org
SUMMARY:Three Legacies Speaker Meeting
DESCRIPTION:Three Legacies welcomes you to join them for a speaker meeting on the second Saturday of each month.
URL:https://cflintergroup.org/event/three-legacies-speaker-meeting/2026-02-14/
LOCATION:Episcopal Church of the Messiah\, 260 N Woodland St\, Winter Garden\, FL\, 34787\, United States
CATEGORIES:Speaker
GEO:28.5687777;-81.5846892
X-APPLE-STRUCTURED-LOCATION;VALUE=URI;X-ADDRESS=Episcopal Church of the Messiah 260 N Woodland St Winter Garden FL 34787 United States;X-APPLE-RADIUS=500;X-TITLE=260 N Woodland St:geo:-81.5846892,28.5687777
END:VEVENT
END:VCALENDAR