BEGIN:VCALENDAR
VERSION:2.0
PRODID:-//Central Florida Intergroup - ECPv6.15.20//NONSGML v1.0//EN
CALSCALE:GREGORIAN
METHOD:PUBLISH
X-WR-CALNAME:Central Florida Intergroup
X-ORIGINAL-URL:https://cflintergroup.org
X-WR-CALDESC:Events for Central Florida Intergroup
REFRESH-INTERVAL;VALUE=DURATION:PT1H
X-Robots-Tag:noindex
X-PUBLISHED-TTL:PT1H
BEGIN:VTIMEZONE
TZID:America/New_York
BEGIN:DAYLIGHT
TZOFFSETFROM:-0500
TZOFFSETTO:-0400
TZNAME:EDT
DTSTART:20250309T070000
END:DAYLIGHT
BEGIN:STANDARD
TZOFFSETFROM:-0400
TZOFFSETTO:-0500
TZNAME:EST
DTSTART:20251102T060000
END:STANDARD
BEGIN:DAYLIGHT
TZOFFSETFROM:-0500
TZOFFSETTO:-0400
TZNAME:EDT
DTSTART:20260308T070000
END:DAYLIGHT
BEGIN:STANDARD
TZOFFSETFROM:-0400
TZOFFSETTO:-0500
TZNAME:EST
DTSTART:20261101T060000
END:STANDARD
BEGIN:DAYLIGHT
TZOFFSETFROM:-0500
TZOFFSETTO:-0400
TZNAME:EDT
DTSTART:20270314T070000
END:DAYLIGHT
BEGIN:STANDARD
TZOFFSETFROM:-0400
TZOFFSETTO:-0500
TZNAME:EST
DTSTART:20271107T060000
END:STANDARD
BEGIN:DAYLIGHT
TZOFFSETFROM:-0500
TZOFFSETTO:-0400
TZNAME:EDT
DTSTART:20280312T070000
END:DAYLIGHT
BEGIN:STANDARD
TZOFFSETFROM:-0400
TZOFFSETTO:-0500
TZNAME:EST
DTSTART:20281105T060000
END:STANDARD
END:VTIMEZONE
BEGIN:VEVENT
DTSTART;TZID=America/New_York:20260426T113000
DTEND;TZID=America/New_York:20260426T123000
DTSTAMP:20260420T042353
CREATED:20241027T161432Z
LAST-MODIFIED:20250211T140830Z
UID:10003805-1777203000-1777206600@cflintergroup.org
SUMMARY:Intergroup Delegates Meeting
DESCRIPTION:The Intergroup Delegates normally meet online the last Sunday of each month. 
URL:https://cflintergroup.org/event/intergroup-delegates-meeting-3-3-2/2026-04-26/
LOCATION:Zoom\, FL\, United States
CATEGORIES:Intergroup Delegates Meeting,Service Meetings
END:VEVENT
BEGIN:VEVENT
DTSTART;VALUE=DATE:20260508
DTEND;VALUE=DATE:20260509
DTSTAMP:20260420T042353
CREATED:20220302T211212Z
LAST-MODIFIED:20240420T191836Z
UID:10003078-1778198400-1778284799@cflintergroup.org
SUMMARY:Intergrouper Submission Deadline
DESCRIPTION:
URL:https://cflintergroup.org/event/intergrouper-submission-deadline/2026-05-08/
END:VEVENT
BEGIN:VEVENT
DTSTART;TZID=America/New_York:20260520T183000
DTEND;TZID=America/New_York:20260520T193000
DTSTAMP:20260420T042353
CREATED:20250211T141829Z
LAST-MODIFIED:20250211T141830Z
UID:10004166-1779301800-1779305400@cflintergroup.org
SUMMARY:Intergroup Service Committee
DESCRIPTION:Intergroup Service Committee consists of the Intergroup Officers and occurs 10 days prior to the Intergroup Delegates meeting to discuss the agenda and other business.
URL:https://cflintergroup.org/event/intergroup-service-committee-2022-05-18-2-2-2-2-2-2-2-2-2/2026-05-20/
LOCATION:Zoom\, FL\, United States
CATEGORIES:Service Meetings
END:VEVENT
BEGIN:VEVENT
DTSTART;TZID=America/New_York:20260531T113000
DTEND;TZID=America/New_York:20260531T123000
DTSTAMP:20260420T042353
CREATED:20241027T161432Z
LAST-MODIFIED:20250211T140830Z
UID:10003480-1780227000-1780230600@cflintergroup.org
SUMMARY:Intergroup Delegates Meeting
DESCRIPTION:The Intergroup Delegates normally meet online the last Sunday of each month. 
URL:https://cflintergroup.org/event/intergroup-delegates-meeting-3-3-2/2026-05-31/
LOCATION:Zoom\, FL\, United States
CATEGORIES:Intergroup Delegates Meeting,Service Meetings
END:VEVENT
BEGIN:VEVENT
DTSTART;TZID=America/New_York:20260606T110000
DTEND;TZID=America/New_York:20260606T130000
DTSTAMP:20260420T042353
CREATED:20260408T150207Z
LAST-MODIFIED:20260408T150207Z
UID:10004748-1780743600-1780750800@cflintergroup.org
SUMMARY:Founder's Day
DESCRIPTION:Central Florida Intergroup invites you to its annual Founder’s Day event\, which will include a special guest speaker\, a long timers panel (each with 40+ years of sobriety)\, a raffle\, and a potluck lunch.
URL:https://cflintergroup.org/event/founders-day/
LOCATION:Redeemer Lutheran Church\, 3377 Aloma Ave\, Winter Park\, FL\, 32792\, United States
CATEGORIES:Special Event
GEO:28.6061295;-81.3039658
X-APPLE-STRUCTURED-LOCATION;VALUE=URI;X-ADDRESS=Redeemer Lutheran Church 3377 Aloma Ave Winter Park FL 32792 United States;X-APPLE-RADIUS=500;X-TITLE=3377 Aloma Ave:geo:-81.3039658,28.6061295
END:VEVENT
BEGIN:VEVENT
DTSTART;VALUE=DATE:20260612
DTEND;VALUE=DATE:20260613
DTSTAMP:20260420T042353
CREATED:20220302T211212Z
LAST-MODIFIED:20240420T191836Z
UID:10003079-1781222400-1781308799@cflintergroup.org
SUMMARY:Intergrouper Submission Deadline
DESCRIPTION:
URL:https://cflintergroup.org/event/intergrouper-submission-deadline/2026-06-12/
END:VEVENT
BEGIN:VEVENT
DTSTART;TZID=America/New_York:20260617T183000
DTEND;TZID=America/New_York:20260617T193000
DTSTAMP:20260420T042353
CREATED:20250211T141829Z
LAST-MODIFIED:20250211T141830Z
UID:10004167-1781721000-1781724600@cflintergroup.org
SUMMARY:Intergroup Service Committee
DESCRIPTION:Intergroup Service Committee consists of the Intergroup Officers and occurs 10 days prior to the Intergroup Delegates meeting to discuss the agenda and other business.
URL:https://cflintergroup.org/event/intergroup-service-committee-2022-05-18-2-2-2-2-2-2-2-2-2/2026-06-17/
LOCATION:Zoom\, FL\, United States
CATEGORIES:Service Meetings
END:VEVENT
BEGIN:VEVENT
DTSTART;TZID=America/New_York:20260628T113000
DTEND;TZID=America/New_York:20260628T123000
DTSTAMP:20260420T042353
CREATED:20241027T161432Z
LAST-MODIFIED:20250211T140830Z
UID:10003806-1782646200-1782649800@cflintergroup.org
SUMMARY:Intergroup Delegates Meeting
DESCRIPTION:The Intergroup Delegates normally meet online the last Sunday of each month. 
URL:https://cflintergroup.org/event/intergroup-delegates-meeting-3-3-2/2026-06-28/
LOCATION:Zoom\, FL\, United States
CATEGORIES:Intergroup Delegates Meeting,Service Meetings
END:VEVENT
BEGIN:VEVENT
DTSTART;VALUE=DATE:20260710
DTEND;VALUE=DATE:20260711
DTSTAMP:20260420T042353
CREATED:20220302T211212Z
LAST-MODIFIED:20240420T191836Z
UID:10002221-1783641600-1783727999@cflintergroup.org
SUMMARY:Intergrouper Submission Deadline
DESCRIPTION:
URL:https://cflintergroup.org/event/intergrouper-submission-deadline/2026-07-10/
END:VEVENT
BEGIN:VEVENT
DTSTART;TZID=America/New_York:20260715T183000
DTEND;TZID=America/New_York:20260715T193000
DTSTAMP:20260420T042353
CREATED:20250211T141829Z
LAST-MODIFIED:20250211T141830Z
UID:10004168-1784140200-1784143800@cflintergroup.org
SUMMARY:Intergroup Service Committee
DESCRIPTION:Intergroup Service Committee consists of the Intergroup Officers and occurs 10 days prior to the Intergroup Delegates meeting to discuss the agenda and other business.
URL:https://cflintergroup.org/event/intergroup-service-committee-2022-05-18-2-2-2-2-2-2-2-2-2/2026-07-15/
LOCATION:Zoom\, FL\, United States
CATEGORIES:Service Meetings
END:VEVENT
BEGIN:VEVENT
DTSTART;TZID=America/New_York:20260726T113000
DTEND;TZID=America/New_York:20260726T123000
DTSTAMP:20260420T042353
CREATED:20241027T161432Z
LAST-MODIFIED:20250211T140830Z
UID:10003807-1785065400-1785069000@cflintergroup.org
SUMMARY:Intergroup Delegates Meeting
DESCRIPTION:The Intergroup Delegates normally meet online the last Sunday of each month. 
URL:https://cflintergroup.org/event/intergroup-delegates-meeting-3-3-2/2026-07-26/
LOCATION:Zoom\, FL\, United States
CATEGORIES:Intergroup Delegates Meeting,Service Meetings
END:VEVENT
BEGIN:VEVENT
DTSTART;VALUE=DATE:20260814
DTEND;VALUE=DATE:20260815
DTSTAMP:20260420T042353
CREATED:20220302T211212Z
LAST-MODIFIED:20240420T191836Z
UID:10003080-1786665600-1786751999@cflintergroup.org
SUMMARY:Intergrouper Submission Deadline
DESCRIPTION:
URL:https://cflintergroup.org/event/intergrouper-submission-deadline/2026-08-14/
END:VEVENT
BEGIN:VEVENT
DTSTART;TZID=America/New_York:20260819T183000
DTEND;TZID=America/New_York:20260819T193000
DTSTAMP:20260420T042353
CREATED:20250211T141829Z
LAST-MODIFIED:20250211T141830Z
UID:10004169-1787164200-1787167800@cflintergroup.org
SUMMARY:Intergroup Service Committee
DESCRIPTION:Intergroup Service Committee consists of the Intergroup Officers and occurs 10 days prior to the Intergroup Delegates meeting to discuss the agenda and other business.
URL:https://cflintergroup.org/event/intergroup-service-committee-2022-05-18-2-2-2-2-2-2-2-2-2/2026-08-19/
LOCATION:Zoom\, FL\, United States
CATEGORIES:Service Meetings
END:VEVENT
BEGIN:VEVENT
DTSTART;TZID=America/New_York:20260830T113000
DTEND;TZID=America/New_York:20260830T123000
DTSTAMP:20260420T042353
CREATED:20241027T161432Z
LAST-MODIFIED:20250211T140830Z
UID:10003481-1788089400-1788093000@cflintergroup.org
SUMMARY:Intergroup Delegates Meeting
DESCRIPTION:The Intergroup Delegates normally meet online the last Sunday of each month. 
URL:https://cflintergroup.org/event/intergroup-delegates-meeting-3-3-2/2026-08-30/
LOCATION:Zoom\, FL\, United States
CATEGORIES:Intergroup Delegates Meeting,Service Meetings
END:VEVENT
BEGIN:VEVENT
DTSTART;VALUE=DATE:20260911
DTEND;VALUE=DATE:20260912
DTSTAMP:20260420T042353
CREATED:20220302T211212Z
LAST-MODIFIED:20240420T191836Z
UID:10003081-1789084800-1789171199@cflintergroup.org
SUMMARY:Intergrouper Submission Deadline
DESCRIPTION:
URL:https://cflintergroup.org/event/intergrouper-submission-deadline/2026-09-11/
END:VEVENT
BEGIN:VEVENT
DTSTART;TZID=America/New_York:20260916T183000
DTEND;TZID=America/New_York:20260916T193000
DTSTAMP:20260420T042353
CREATED:20250211T141829Z
LAST-MODIFIED:20250211T141830Z
UID:10004170-1789583400-1789587000@cflintergroup.org
SUMMARY:Intergroup Service Committee
DESCRIPTION:Intergroup Service Committee consists of the Intergroup Officers and occurs 10 days prior to the Intergroup Delegates meeting to discuss the agenda and other business.
URL:https://cflintergroup.org/event/intergroup-service-committee-2022-05-18-2-2-2-2-2-2-2-2-2/2026-09-16/
LOCATION:Zoom\, FL\, United States
CATEGORIES:Service Meetings
END:VEVENT
BEGIN:VEVENT
DTSTART;TZID=America/New_York:20260927T113000
DTEND;TZID=America/New_York:20260927T123000
DTSTAMP:20260420T042353
CREATED:20241027T161432Z
LAST-MODIFIED:20250211T140830Z
UID:10003808-1790508600-1790512200@cflintergroup.org
SUMMARY:Intergroup Delegates Meeting
DESCRIPTION:The Intergroup Delegates normally meet online the last Sunday of each month. 
URL:https://cflintergroup.org/event/intergroup-delegates-meeting-3-3-2/2026-09-27/
LOCATION:Zoom\, FL\, United States
CATEGORIES:Intergroup Delegates Meeting,Service Meetings
END:VEVENT
BEGIN:VEVENT
DTSTART;VALUE=DATE:20261009
DTEND;VALUE=DATE:20261010
DTSTAMP:20260420T042353
CREATED:20220302T211212Z
LAST-MODIFIED:20240420T191836Z
UID:10003082-1791504000-1791590399@cflintergroup.org
SUMMARY:Intergrouper Submission Deadline
DESCRIPTION:
URL:https://cflintergroup.org/event/intergrouper-submission-deadline/2026-10-09/
END:VEVENT
BEGIN:VEVENT
DTSTART;TZID=America/New_York:20261021T183000
DTEND;TZID=America/New_York:20261021T193000
DTSTAMP:20260420T042353
CREATED:20250211T141829Z
LAST-MODIFIED:20250211T141830Z
UID:10004171-1792607400-1792611000@cflintergroup.org
SUMMARY:Intergroup Service Committee
DESCRIPTION:Intergroup Service Committee consists of the Intergroup Officers and occurs 10 days prior to the Intergroup Delegates meeting to discuss the agenda and other business.
URL:https://cflintergroup.org/event/intergroup-service-committee-2022-05-18-2-2-2-2-2-2-2-2-2/2026-10-21/
LOCATION:Zoom\, FL\, United States
CATEGORIES:Service Meetings
END:VEVENT
BEGIN:VEVENT
DTSTART;TZID=America/New_York:20261025T113000
DTEND;TZID=America/New_York:20261025T123000
DTSTAMP:20260420T042353
CREATED:20241027T161432Z
LAST-MODIFIED:20250211T140830Z
UID:10003809-1792927800-1792931400@cflintergroup.org
SUMMARY:Intergroup Delegates Meeting
DESCRIPTION:The Intergroup Delegates normally meet online the last Sunday of each month. 
URL:https://cflintergroup.org/event/intergroup-delegates-meeting-3-3-2/2026-10-25/
LOCATION:Zoom\, FL\, United States
CATEGORIES:Intergroup Delegates Meeting,Service Meetings
END:VEVENT
BEGIN:VEVENT
DTSTART;VALUE=DATE:20261113
DTEND;VALUE=DATE:20261114
DTSTAMP:20260420T042353
CREATED:20220302T211212Z
LAST-MODIFIED:20240420T191836Z
UID:10003083-1794528000-1794614399@cflintergroup.org
SUMMARY:Intergrouper Submission Deadline
DESCRIPTION:
URL:https://cflintergroup.org/event/intergrouper-submission-deadline/2026-11-13/
END:VEVENT
BEGIN:VEVENT
DTSTART;TZID=America/New_York:20261118T183000
DTEND;TZID=America/New_York:20261118T193000
DTSTAMP:20260420T042353
CREATED:20250211T141829Z
LAST-MODIFIED:20250211T141830Z
UID:10004172-1795026600-1795030200@cflintergroup.org
SUMMARY:Intergroup Service Committee
DESCRIPTION:Intergroup Service Committee consists of the Intergroup Officers and occurs 10 days prior to the Intergroup Delegates meeting to discuss the agenda and other business.
URL:https://cflintergroup.org/event/intergroup-service-committee-2022-05-18-2-2-2-2-2-2-2-2-2/2026-11-18/
LOCATION:Zoom\, FL\, United States
CATEGORIES:Service Meetings
END:VEVENT
BEGIN:VEVENT
DTSTART;TZID=America/New_York:20261129T113000
DTEND;TZID=America/New_York:20261129T123000
DTSTAMP:20260420T042353
CREATED:20241027T161432Z
LAST-MODIFIED:20250211T140830Z
UID:10003482-1795951800-1795955400@cflintergroup.org
SUMMARY:Intergroup Delegates Meeting
DESCRIPTION:The Intergroup Delegates normally meet online the last Sunday of each month. 
URL:https://cflintergroup.org/event/intergroup-delegates-meeting-3-3-2/2026-11-29/
LOCATION:Zoom\, FL\, United States
CATEGORIES:Intergroup Delegates Meeting,Service Meetings
END:VEVENT
BEGIN:VEVENT
DTSTART;VALUE=DATE:20261211
DTEND;VALUE=DATE:20261212
DTSTAMP:20260420T042353
CREATED:20220302T211212Z
LAST-MODIFIED:20240420T191836Z
UID:10003084-1796947200-1797033599@cflintergroup.org
SUMMARY:Intergrouper Submission Deadline
DESCRIPTION:
URL:https://cflintergroup.org/event/intergrouper-submission-deadline/2026-12-11/
END:VEVENT
BEGIN:VEVENT
DTSTART;TZID=America/New_York:20261216T183000
DTEND;TZID=America/New_York:20261216T193000
DTSTAMP:20260420T042353
CREATED:20250211T141829Z
LAST-MODIFIED:20250211T141830Z
UID:10004173-1797445800-1797449400@cflintergroup.org
SUMMARY:Intergroup Service Committee
DESCRIPTION:Intergroup Service Committee consists of the Intergroup Officers and occurs 10 days prior to the Intergroup Delegates meeting to discuss the agenda and other business.
URL:https://cflintergroup.org/event/intergroup-service-committee-2022-05-18-2-2-2-2-2-2-2-2-2/2026-12-16/
LOCATION:Zoom\, FL\, United States
CATEGORIES:Service Meetings
END:VEVENT
BEGIN:VEVENT
DTSTART;TZID=America/New_York:20261227T113000
DTEND;TZID=America/New_York:20261227T123000
DTSTAMP:20260420T042353
CREATED:20241027T161432Z
LAST-MODIFIED:20250211T140830Z
UID:10003810-1798371000-1798374600@cflintergroup.org
SUMMARY:Intergroup Delegates Meeting
DESCRIPTION:The Intergroup Delegates normally meet online the last Sunday of each month. 
URL:https://cflintergroup.org/event/intergroup-delegates-meeting-3-3-2/2026-12-27/
LOCATION:Zoom\, FL\, United States
CATEGORIES:Intergroup Delegates Meeting,Service Meetings
END:VEVENT
BEGIN:VEVENT
DTSTART;VALUE=DATE:20270108
DTEND;VALUE=DATE:20270109
DTSTAMP:20260420T042353
CREATED:20220302T211212Z
LAST-MODIFIED:20240420T191836Z
UID:10003085-1799366400-1799452799@cflintergroup.org
SUMMARY:Intergrouper Submission Deadline
DESCRIPTION:
URL:https://cflintergroup.org/event/intergrouper-submission-deadline/2027-01-08/
END:VEVENT
BEGIN:VEVENT
DTSTART;TZID=America/New_York:20270120T183000
DTEND;TZID=America/New_York:20270120T193000
DTSTAMP:20260420T042353
CREATED:20250211T141829Z
LAST-MODIFIED:20250211T141830Z
UID:10004174-1800469800-1800473400@cflintergroup.org
SUMMARY:Intergroup Service Committee
DESCRIPTION:Intergroup Service Committee consists of the Intergroup Officers and occurs 10 days prior to the Intergroup Delegates meeting to discuss the agenda and other business.
URL:https://cflintergroup.org/event/intergroup-service-committee-2022-05-18-2-2-2-2-2-2-2-2-2/2027-01-20/
LOCATION:Zoom\, FL\, United States
CATEGORIES:Service Meetings
END:VEVENT
BEGIN:VEVENT
DTSTART;TZID=America/New_York:20270131T113000
DTEND;TZID=America/New_York:20270131T123000
DTSTAMP:20260420T042353
CREATED:20241027T161432Z
LAST-MODIFIED:20250211T140830Z
UID:10003483-1801395000-1801398600@cflintergroup.org
SUMMARY:Intergroup Delegates Meeting
DESCRIPTION:The Intergroup Delegates normally meet online the last Sunday of each month. 
URL:https://cflintergroup.org/event/intergroup-delegates-meeting-3-3-2/2027-01-31/
LOCATION:Zoom\, FL\, United States
CATEGORIES:Intergroup Delegates Meeting,Service Meetings
END:VEVENT
BEGIN:VEVENT
DTSTART;VALUE=DATE:20270212
DTEND;VALUE=DATE:20270213
DTSTAMP:20260420T042353
CREATED:20220302T211212Z
LAST-MODIFIED:20240420T191836Z
UID:10003086-1802390400-1802476799@cflintergroup.org
SUMMARY:Intergrouper Submission Deadline
DESCRIPTION:
URL:https://cflintergroup.org/event/intergrouper-submission-deadline/2027-02-12/
END:VEVENT
END:VCALENDAR