BEGIN:VCALENDAR
VERSION:2.0
PRODID:-//Central Florida Intergroup - ECPv6.15.20//NONSGML v1.0//EN
CALSCALE:GREGORIAN
METHOD:PUBLISH
X-ORIGINAL-URL:https://cflintergroup.org
X-WR-CALDESC:Events for Central Florida Intergroup
REFRESH-INTERVAL;VALUE=DURATION:PT1H
X-Robots-Tag:noindex
X-PUBLISHED-TTL:PT1H
BEGIN:VTIMEZONE
TZID:America/New_York
BEGIN:DAYLIGHT
TZOFFSETFROM:-0500
TZOFFSETTO:-0400
TZNAME:EDT
DTSTART:20240310T070000
END:DAYLIGHT
BEGIN:STANDARD
TZOFFSETFROM:-0400
TZOFFSETTO:-0500
TZNAME:EST
DTSTART:20241103T060000
END:STANDARD
BEGIN:DAYLIGHT
TZOFFSETFROM:-0500
TZOFFSETTO:-0400
TZNAME:EDT
DTSTART:20250309T070000
END:DAYLIGHT
BEGIN:STANDARD
TZOFFSETFROM:-0400
TZOFFSETTO:-0500
TZNAME:EST
DTSTART:20251102T060000
END:STANDARD
BEGIN:DAYLIGHT
TZOFFSETFROM:-0500
TZOFFSETTO:-0400
TZNAME:EDT
DTSTART:20260308T070000
END:DAYLIGHT
BEGIN:STANDARD
TZOFFSETFROM:-0400
TZOFFSETTO:-0500
TZNAME:EST
DTSTART:20261101T060000
END:STANDARD
BEGIN:DAYLIGHT
TZOFFSETFROM:-0500
TZOFFSETTO:-0400
TZNAME:EDT
DTSTART:20270314T070000
END:DAYLIGHT
BEGIN:STANDARD
TZOFFSETFROM:-0400
TZOFFSETTO:-0500
TZNAME:EST
DTSTART:20271107T060000
END:STANDARD
END:VTIMEZONE
BEGIN:VEVENT
DTSTART;TZID=America/New_York:20260326T180000
DTEND;TZID=America/New_York:20260326T200000
DTSTAMP:20260423T072159
CREATED:20250716T011317Z
LAST-MODIFIED:20250716T011317Z
UID:10004521-1774548000-1774555200@cflintergroup.org
SUMMARY:Came To Believe Potluck Dinner
DESCRIPTION:Came to Believe invites you to join them on the last Thursday of each month for a potluck dinner at 6pm\, followed by a meeting at 7pm.
URL:https://cflintergroup.org/event/came-to-believe-potluck-dinner/2026-03-26/
LOCATION:REBOS\, 130 Normandy Road\, Casselberry\, FL\, 32707\, United States
CATEGORIES:Food & Drink,Special Event
GEO:28.666617;-81.3405457
X-APPLE-STRUCTURED-LOCATION;VALUE=URI;X-ADDRESS=REBOS 130 Normandy Road Casselberry FL 32707 United States;X-APPLE-RADIUS=500;X-TITLE=130 Normandy Road:geo:-81.3405457,28.666617
END:VEVENT
BEGIN:VEVENT
DTSTART;TZID=America/New_York:20260226T180000
DTEND;TZID=America/New_York:20260226T200000
DTSTAMP:20260423T072159
CREATED:20250716T011317Z
LAST-MODIFIED:20250716T011317Z
UID:10004520-1772128800-1772136000@cflintergroup.org
SUMMARY:Came To Believe Potluck Dinner
DESCRIPTION:Came to Believe invites you to join them on the last Thursday of each month for a potluck dinner at 6pm\, followed by a meeting at 7pm.
URL:https://cflintergroup.org/event/came-to-believe-potluck-dinner/2026-02-26/
LOCATION:REBOS\, 130 Normandy Road\, Casselberry\, FL\, 32707\, United States
CATEGORIES:Food & Drink,Special Event
GEO:28.666617;-81.3405457
X-APPLE-STRUCTURED-LOCATION;VALUE=URI;X-ADDRESS=REBOS 130 Normandy Road Casselberry FL 32707 United States;X-APPLE-RADIUS=500;X-TITLE=130 Normandy Road:geo:-81.3405457,28.666617
END:VEVENT
BEGIN:VEVENT
DTSTART;TZID=America/New_York:20260129T180000
DTEND;TZID=America/New_York:20260129T200000
DTSTAMP:20260423T072159
CREATED:20250716T011317Z
LAST-MODIFIED:20250716T011317Z
UID:10004519-1769709600-1769716800@cflintergroup.org
SUMMARY:Came To Believe Potluck Dinner
DESCRIPTION:Came to Believe invites you to join them on the last Thursday of each month for a potluck dinner at 6pm\, followed by a meeting at 7pm.
URL:https://cflintergroup.org/event/came-to-believe-potluck-dinner/2026-01-29/
LOCATION:REBOS\, 130 Normandy Road\, Casselberry\, FL\, 32707\, United States
CATEGORIES:Food & Drink,Special Event
GEO:28.666617;-81.3405457
X-APPLE-STRUCTURED-LOCATION;VALUE=URI;X-ADDRESS=REBOS 130 Normandy Road Casselberry FL 32707 United States;X-APPLE-RADIUS=500;X-TITLE=130 Normandy Road:geo:-81.3405457,28.666617
END:VEVENT
BEGIN:VEVENT
DTSTART;TZID=America/New_York:20260101T000500
DTEND;TZID=America/New_York:20260101T013000
DTSTAMP:20260423T072159
CREATED:20251110T195238Z
LAST-MODIFIED:20251110T195238Z
UID:10004623-1767225900-1767231000@cflintergroup.org
SUMMARY:Live Oaks Group's First Meeting of the Year
DESCRIPTION:Start your new year with the Live Oaks Group and a candlelight meeting at 12:05am!
URL:https://cflintergroup.org/event/live-oaks-groups-first-meeting-of-the-year/
LOCATION:REBOS\, 130 Normandy Road\, Casselberry\, FL\, 32707\, United States
CATEGORIES:Holiday
GEO:28.666617;-81.3405457
X-APPLE-STRUCTURED-LOCATION;VALUE=URI;X-ADDRESS=REBOS 130 Normandy Road Casselberry FL 32707 United States;X-APPLE-RADIUS=500;X-TITLE=130 Normandy Road:geo:-81.3405457,28.666617
END:VEVENT
BEGIN:VEVENT
DTSTART;TZID=America/New_York:20251225T180000
DTEND;TZID=America/New_York:20251225T200000
DTSTAMP:20260423T072159
CREATED:20250716T011317Z
LAST-MODIFIED:20250716T011317Z
UID:10004518-1766685600-1766692800@cflintergroup.org
SUMMARY:Came To Believe Potluck Dinner
DESCRIPTION:Came to Believe invites you to join them on the last Thursday of each month for a potluck dinner at 6pm\, followed by a meeting at 7pm.
URL:https://cflintergroup.org/event/came-to-believe-potluck-dinner/2025-12-25/
LOCATION:REBOS\, 130 Normandy Road\, Casselberry\, FL\, 32707\, United States
CATEGORIES:Food & Drink,Special Event
GEO:28.666617;-81.3405457
X-APPLE-STRUCTURED-LOCATION;VALUE=URI;X-ADDRESS=REBOS 130 Normandy Road Casselberry FL 32707 United States;X-APPLE-RADIUS=500;X-TITLE=130 Normandy Road:geo:-81.3405457,28.666617
END:VEVENT
BEGIN:VEVENT
DTSTART;TZID=America/New_York:20251221T170000
DTEND;TZID=America/New_York:20251221T200000
DTSTAMP:20260423T072159
CREATED:20230903T215947Z
LAST-MODIFIED:20251120T000543Z
UID:10002437-1766336400-1766347200@cflintergroup.org
SUMMARY:Live Oak Holiday Dinner
DESCRIPTION:Live Oak Group invites you to a special holiday dinner and AA speaker event on Sunday\, December 21st. \nPlease bring a side dish or dessert. Dinner will be held at 5pm with speaker Mike F. to follow at 6pm. Stay after for music by Harley.
URL:https://cflintergroup.org/event/rebos-holiday-dinner/
LOCATION:REBOS\, 130 Normandy Road\, Casselberry\, FL\, 32707\, United States
CATEGORIES:Food & Drink,Holiday,Speaker,Special Event
GEO:28.666617;-81.3405457
X-APPLE-STRUCTURED-LOCATION;VALUE=URI;X-ADDRESS=REBOS 130 Normandy Road Casselberry FL 32707 United States;X-APPLE-RADIUS=500;X-TITLE=130 Normandy Road:geo:-81.3405457,28.666617
END:VEVENT
BEGIN:VEVENT
DTSTART;TZID=America/New_York:20251127T180000
DTEND;TZID=America/New_York:20251127T200000
DTSTAMP:20260423T072159
CREATED:20250716T011317Z
LAST-MODIFIED:20250716T011317Z
UID:10004517-1764266400-1764273600@cflintergroup.org
SUMMARY:Came To Believe Potluck Dinner
DESCRIPTION:Came to Believe invites you to join them on the last Thursday of each month for a potluck dinner at 6pm\, followed by a meeting at 7pm.
URL:https://cflintergroup.org/event/came-to-believe-potluck-dinner/2025-11-27/
LOCATION:REBOS\, 130 Normandy Road\, Casselberry\, FL\, 32707\, United States
CATEGORIES:Food & Drink,Special Event
GEO:28.666617;-81.3405457
X-APPLE-STRUCTURED-LOCATION;VALUE=URI;X-ADDRESS=REBOS 130 Normandy Road Casselberry FL 32707 United States;X-APPLE-RADIUS=500;X-TITLE=130 Normandy Road:geo:-81.3405457,28.666617
END:VEVENT
BEGIN:VEVENT
DTSTART;TZID=America/New_York:20251030T180000
DTEND;TZID=America/New_York:20251030T200000
DTSTAMP:20260423T072159
CREATED:20250716T011317Z
LAST-MODIFIED:20250716T011317Z
UID:10004516-1761847200-1761854400@cflintergroup.org
SUMMARY:Came To Believe Potluck Dinner
DESCRIPTION:Came to Believe invites you to join them on the last Thursday of each month for a potluck dinner at 6pm\, followed by a meeting at 7pm.
URL:https://cflintergroup.org/event/came-to-believe-potluck-dinner/2025-10-30/
LOCATION:REBOS\, 130 Normandy Road\, Casselberry\, FL\, 32707\, United States
CATEGORIES:Food & Drink,Special Event
GEO:28.666617;-81.3405457
X-APPLE-STRUCTURED-LOCATION;VALUE=URI;X-ADDRESS=REBOS 130 Normandy Road Casselberry FL 32707 United States;X-APPLE-RADIUS=500;X-TITLE=130 Normandy Road:geo:-81.3405457,28.666617
END:VEVENT
BEGIN:VEVENT
DTSTART;TZID=America/New_York:20250925T180000
DTEND;TZID=America/New_York:20250925T200000
DTSTAMP:20260423T072159
CREATED:20250716T011317Z
LAST-MODIFIED:20250716T011317Z
UID:10004515-1758823200-1758830400@cflintergroup.org
SUMMARY:Came To Believe Potluck Dinner
DESCRIPTION:Came to Believe invites you to join them on the last Thursday of each month for a potluck dinner at 6pm\, followed by a meeting at 7pm.
URL:https://cflintergroup.org/event/came-to-believe-potluck-dinner/2025-09-25/
LOCATION:REBOS\, 130 Normandy Road\, Casselberry\, FL\, 32707\, United States
CATEGORIES:Food & Drink,Special Event
GEO:28.666617;-81.3405457
X-APPLE-STRUCTURED-LOCATION;VALUE=URI;X-ADDRESS=REBOS 130 Normandy Road Casselberry FL 32707 United States;X-APPLE-RADIUS=500;X-TITLE=130 Normandy Road:geo:-81.3405457,28.666617
END:VEVENT
BEGIN:VEVENT
DTSTART;TZID=America/New_York:20250828T180000
DTEND;TZID=America/New_York:20250828T200000
DTSTAMP:20260423T072159
CREATED:20250716T011317Z
LAST-MODIFIED:20250716T011317Z
UID:10004514-1756404000-1756411200@cflintergroup.org
SUMMARY:Came To Believe Potluck Dinner
DESCRIPTION:Came to Believe invites you to join them on the last Thursday of each month for a potluck dinner at 6pm\, followed by a meeting at 7pm.
URL:https://cflintergroup.org/event/came-to-believe-potluck-dinner/2025-08-28/
LOCATION:REBOS\, 130 Normandy Road\, Casselberry\, FL\, 32707\, United States
CATEGORIES:Food & Drink,Special Event
GEO:28.666617;-81.3405457
X-APPLE-STRUCTURED-LOCATION;VALUE=URI;X-ADDRESS=REBOS 130 Normandy Road Casselberry FL 32707 United States;X-APPLE-RADIUS=500;X-TITLE=130 Normandy Road:geo:-81.3405457,28.666617
END:VEVENT
BEGIN:VEVENT
DTSTART;TZID=America/New_York:20250731T180000
DTEND;TZID=America/New_York:20250731T200000
DTSTAMP:20260423T072159
CREATED:20250716T011317Z
LAST-MODIFIED:20250716T011317Z
UID:10004513-1753984800-1753992000@cflintergroup.org
SUMMARY:Came To Believe Potluck Dinner
DESCRIPTION:Came to Believe invites you to join them on the last Thursday of each month for a potluck dinner at 6pm\, followed by a meeting at 7pm.
URL:https://cflintergroup.org/event/came-to-believe-potluck-dinner/2025-07-31/
LOCATION:REBOS\, 130 Normandy Road\, Casselberry\, FL\, 32707\, United States
CATEGORIES:Food & Drink,Special Event
GEO:28.666617;-81.3405457
X-APPLE-STRUCTURED-LOCATION;VALUE=URI;X-ADDRESS=REBOS 130 Normandy Road Casselberry FL 32707 United States;X-APPLE-RADIUS=500;X-TITLE=130 Normandy Road:geo:-81.3405457,28.666617
END:VEVENT
END:VCALENDAR